BEGIN:VCALENDAR
VERSION:2.0
PRODID:-//Bookamoso Book Club - ECPv6.13.2.1//NONSGML v1.0//EN
CALSCALE:GREGORIAN
METHOD:PUBLISH
X-WR-CALNAME:Bookamoso Book Club
X-ORIGINAL-URL:https://bookamoso.co.za
X-WR-CALDESC:Events for Bookamoso Book Club
REFRESH-INTERVAL;VALUE=DURATION:PT1H
X-Robots-Tag:noindex
X-PUBLISHED-TTL:PT1H
BEGIN:VTIMEZONE
TZID:UTC
BEGIN:STANDARD
TZOFFSETFROM:+0000
TZOFFSETTO:+0000
TZNAME:UTC
DTSTART:20220101T000000
END:STANDARD
END:VTIMEZONE
BEGIN:VEVENT
DTSTART;TZID=UTC:20220519T180000
DTEND;TZID=UTC:20220519T193000
DTSTAMP:20260423T232242
CREATED:20220515T080031Z
LAST-MODIFIED:20220515T080031Z
UID:2583-1652983200-1652988600@bookamoso.co.za
SUMMARY:Book Launch: White Chalk by Terry-Ann Adams
DESCRIPTION:
URL:https://bookamoso.co.za/event/book-launch-white-chalk-by-terry-ann-adams/
LOCATION:Book Circle Capital\, 26 Boxes\, 75 4th Ave\, Melville\, Johannesburg\, Gauteng\, 2109\, South Africa
CATEGORIES:Book Launch
ATTACH;FMTTYPE=image/jpeg:https://bookamoso.co.za/wp-content/uploads/2022/05/FSdacQVXMAAI-3J.jpeg
END:VEVENT
BEGIN:VEVENT
DTSTART;TZID=UTC:20220519T173000
DTEND;TZID=UTC:20220519T183000
DTSTAMP:20260423T232242
CREATED:20220510T151608Z
LAST-MODIFIED:20220512T081237Z
UID:2532-1652981400-1652985000@bookamoso.co.za
SUMMARY:Great Texts/Big Questions Lecture Series - Institute for Creative Arts
DESCRIPTION:Events are free but RSVP is essential: email ica@uct.ac.za \nThe event will be held every Tuesday and Thursday from the 19 May 2022 – 07 June 2022. \nEvent Link for further details on days/event info: http://www.ica.uct.ac.za/ica/news/GTBQ2022 \n 
URL:https://bookamoso.co.za/event/great-texts-big-questions-lecture-series-institute-for-creative-arts/
LOCATION:Hiddingh Hall on UCT’s Hiddingh Campus\, 31 Orange St\, Gardens\, Cape Town\, Western Cape\, 8001\, South Africa
CATEGORIES:Book Discussion,Bookish Event
ATTACH;FMTTYPE=image/png:https://bookamoso.co.za/wp-content/uploads/2022/05/unnamed-1.png
ORGANIZER;CN="The Institute for Creative Arts (ICA)":MAILTO:ica@uct.ac.za
END:VEVENT
BEGIN:VEVENT
DTSTART;TZID=UTC:20220518T180000
DTEND;TZID=UTC:20220518T193000
DTSTAMP:20260423T232242
CREATED:20220514T150146Z
LAST-MODIFIED:20220514T150146Z
UID:2566-1652896800-1652902200@bookamoso.co.za
SUMMARY:Book Launch: Now You Know How Mapetla Died - Zikhona Valela
DESCRIPTION:
URL:https://bookamoso.co.za/event/book-launch-now-you-know-how-mapetla-died-zikhona-valela-2/
LOCATION:Exclusive Books V&A Waterfront\, 6160 Victoria Wharf\, 1 Breakwater Blvd\, Victoria & Alfred Waterfront\, Cape Town\, Western Cape
CATEGORIES:Book Launch
ATTACH;FMTTYPE=image/png:https://bookamoso.co.za/wp-content/uploads/2022/05/FSlT5RmWUAoWZSa.png
END:VEVENT
BEGIN:VEVENT
DTSTART;TZID=UTC:20220517T180000
DTEND;TZID=UTC:20220517T193000
DTSTAMP:20260423T232242
CREATED:20220516T155648Z
LAST-MODIFIED:20220516T155648Z
UID:2603-1652810400-1652815800@bookamoso.co.za
SUMMARY:Book Launch: Should We Stay of Should We Go - Lionel Shriver
DESCRIPTION:
URL:https://bookamoso.co.za/event/book-launch-should-we-stay-of-should-we-go-lionel-shriver/
LOCATION:Exclusive Books Hyde Park\, Hyde Park Corner\, cnr Jan Smuts Ave & William Nicol Drive\, Johannesburg\, Gauteng\, South Africa
CATEGORIES:Book Launch
ATTACH;FMTTYPE=image/jpeg:https://bookamoso.co.za/wp-content/uploads/2022/05/FS34Ys3WQAEypm5.jpeg
END:VEVENT
BEGIN:VEVENT
DTSTART;TZID=UTC:20220513T100000
DTEND;TZID=UTC:20220515T140000
DTSTAMP:20260423T232242
CREATED:20220512T080703Z
LAST-MODIFIED:20220512T080703Z
UID:2550-1652436000-1652623200@bookamoso.co.za
SUMMARY:Franschoek Literary Festival
DESCRIPTION:Full Programme is on the flf.co.za website with venues and times. \n\n\nINFORMATION & QUERIES\nFor general queries please contact hello@flf.co.za. For any queries about membership\, booking or payment kindly contact: \nWebtickets\n\nTEL 0861999710 \n\nEMAIL info@webtickets.co.za \n\nWHATSAPP +27721371226 \n\nSUPPORT HOURS 8:30-16:30 – 7 days a week
URL:https://bookamoso.co.za/event/franschoek-literary-festival/
LOCATION:Franschoek\, Cape Town\, South Africa
CATEGORIES:Book Fest
ATTACH;FMTTYPE=image/jpeg:https://bookamoso.co.za/wp-content/uploads/2022/05/84772075_2926031594084064_8792354369140948992_n.jpeg
END:VEVENT
BEGIN:VEVENT
DTSTART;TZID=UTC:20220512T180000
DTEND;TZID=UTC:20220512T190000
DTSTAMP:20260423T232242
CREATED:20220512T083116Z
LAST-MODIFIED:20220512T083116Z
UID:2555-1652378400-1652382000@bookamoso.co.za
SUMMARY:Book Launch: Better Choices Ensuring South Africa's Future
DESCRIPTION:RSVP: events@exclusivebooks.co.za
URL:https://bookamoso.co.za/event/book-launch-better-choices-ensuring-south-africas-future/
LOCATION:Exclusive Books V&A Waterfront\, 6160 Victoria Wharf\, 1 Breakwater Blvd\, Victoria & Alfred Waterfront\, Cape Town\, Western Cape
CATEGORIES:Book Discussion,Book Launch
ATTACH;FMTTYPE=image/jpeg:https://bookamoso.co.za/wp-content/uploads/2022/05/FSY27ECXoAESthv-1.jpeg
END:VEVENT
BEGIN:VEVENT
DTSTART;TZID=UTC:20220512T090000
DTEND;TZID=UTC:20220512T130000
DTSTAMP:20260423T232242
CREATED:20220512T075640Z
LAST-MODIFIED:20220512T075640Z
UID:2546-1652346000-1652360400@bookamoso.co.za
SUMMARY:Power of Authors
DESCRIPTION:This is a virtual event. \nhttps://www.anfasa.org.za/power-of-authors-2022/
URL:https://bookamoso.co.za/event/power-of-authors/
LOCATION:Western Cape
CATEGORIES:Book Discussion,Book Fest
ATTACH;FMTTYPE=image/jpeg:https://bookamoso.co.za/wp-content/uploads/2022/05/FR7slhnWUAA0kvr.jpeg
END:VEVENT
BEGIN:VEVENT
DTSTART;TZID=UTC:20220430T123000
DTEND;TZID=UTC:20220430T163000
DTSTAMP:20260423T232242
CREATED:20220426T133342Z
LAST-MODIFIED:20220426T133342Z
UID:2486-1651321800-1651336200@bookamoso.co.za
SUMMARY:Book Club Saturday - Between the Covers Book Club: The Wanderers by Mputhumi Ntabeni
DESCRIPTION:The ladies from Betweent the Covers Book Club will be hosting Mpush Ntabeni to discuss his book\, The Wanderers. \nRSVP: Wyna – 072 5527790 \n  \nVenue: The Clubhouse Restaurant\, Fourways Gardens
URL:https://bookamoso.co.za/event/book-club-saturday-between-the-covers-book-club-the-wanderers-by-mputhumi-ntabeni/
LOCATION:The Clubhouse Restaurant\, Fourways Gardens\, Johannesburg\, South Africa
CATEGORIES:Book Discussion
ATTACH;FMTTYPE=image/jpeg:https://bookamoso.co.za/wp-content/uploads/2022/04/WhatsApp-Image-2022-04-15-at-5.56.31-PM.jpeg
END:VEVENT
BEGIN:VEVENT
DTSTART;TZID=UTC:20220430T110000
DTEND;TZID=UTC:20220430T120000
DTSTAMP:20260423T232242
CREATED:20220426T134221Z
LAST-MODIFIED:20220426T134221Z
UID:2493-1651316400-1651320000@bookamoso.co.za
SUMMARY:Book Reading: Wanda the Brave by Sihle-isipho Nontshokweni
DESCRIPTION:
URL:https://bookamoso.co.za/event/book-reading-wanda-the-brave-by-sihle-isipho-nontshokweni/
LOCATION:Book Circle Capital\, 26 Boxes\, 75 4th Ave\, Melville\, Johannesburg\, Gauteng\, 2109\, South Africa
CATEGORIES:Book Reading,Childrens Book Event
ATTACH;FMTTYPE=image/jpeg:https://bookamoso.co.za/wp-content/uploads/2022/04/FRP3LYIXsAAa4wo.jpeg
END:VEVENT
BEGIN:VEVENT
DTSTART;TZID=UTC:20220429T180000
DTEND;TZID=UTC:20220429T190000
DTSTAMP:20260423T232242
CREATED:20220426T133916Z
LAST-MODIFIED:20220426T133916Z
UID:2490-1651255200-1651258800@bookamoso.co.za
SUMMARY:Book Discussion: A New Afrikan - Dr Molapo Selepe
DESCRIPTION:Dr. Molapo Selepe will be in conversation with Tumelo Mothotoane.
URL:https://bookamoso.co.za/event/book-discussion-a-new-afrikan-dr-molapo-selepe/
LOCATION:Book Circle Capital\, 26 Boxes\, 75 4th Ave\, Melville\, Johannesburg\, Gauteng\, 2109\, South Africa
CATEGORIES:Book Discussion
ATTACH;FMTTYPE=image/jpeg:https://bookamoso.co.za/wp-content/uploads/2022/04/FRP3KwyWUAAb-Of.jpeg
END:VEVENT
BEGIN:VEVENT
DTSTART;TZID=UTC:20220427T083000
DTEND;TZID=UTC:20220427T160000
DTSTAMP:20260423T232242
CREATED:20220426T134801Z
LAST-MODIFIED:20220426T134801Z
UID:2496-1651048200-1651075200@bookamoso.co.za
SUMMARY:Bargain Books Warehouse Book Sale!
DESCRIPTION:
URL:https://bookamoso.co.za/event/bargain-books-warehouse-book-sale/
LOCATION:Western Cape
ATTACH;FMTTYPE=image/jpeg:https://bookamoso.co.za/wp-content/uploads/2022/04/FRRXuxnXMAEp7jW.jpeg
END:VEVENT
BEGIN:VEVENT
DTSTART;TZID=UTC:20220426T180000
DTEND;TZID=UTC:20220426T190000
DTSTAMP:20260423T232242
CREATED:20220426T131729Z
LAST-MODIFIED:20220426T131729Z
UID:2483-1650996000-1650999600@bookamoso.co.za
SUMMARY:Book Launch: Empowered by Vee Kativhu
DESCRIPTION:The author will be in conversation with Book Circle Capital co-owner\, Sewela Langeni. \n 
URL:https://bookamoso.co.za/event/book-launch-empowered-by-vee-kativhu/
LOCATION:Book Circle Capital\, 26 Boxes\, 75 4th Ave\, Melville\, Johannesburg\, Gauteng\, 2109\, South Africa
CATEGORIES:Book Launch
ATTACH;FMTTYPE=image/jpeg:https://bookamoso.co.za/wp-content/uploads/2022/04/279178062_1573373749729015_5848707404831612669_n.jpeg
END:VEVENT
BEGIN:VEVENT
DTSTART;TZID=UTC:20220420T173000
DTEND;TZID=UTC:20220420T193000
DTSTAMP:20260423T232242
CREATED:20220408T102533Z
LAST-MODIFIED:20220408T102533Z
UID:2478-1650475800-1650483000@bookamoso.co.za
SUMMARY:Book Launch: Too White to be Coloured Too Coloured to be Black: Ismail Lagardien
DESCRIPTION:
URL:https://bookamoso.co.za/event/book-launch-too-white-to-be-coloured-too-coloured-to-be-black-ismail-lagardien/
LOCATION:Exclusive Books Cavendish Square\, 12 Cavendish St. Claremont\, Cape Town\, Western Cape\, 7708\, South Africa
CATEGORIES:Book Discussion
ATTACH;FMTTYPE=image/png:https://bookamoso.co.za/wp-content/uploads/2022/04/FPvsV13XoAUcPU2.png
END:VEVENT
BEGIN:VEVENT
DTSTART;TZID=UTC:20220413T180000
DTEND;TZID=UTC:20220413T193000
DTSTAMP:20260423T232242
CREATED:20220408T085625Z
LAST-MODIFIED:20220408T085625Z
UID:2463-1649872800-1649878200@bookamoso.co.za
SUMMARY:Book Launch - Two Tons O' Fun: Fred Khumalo
DESCRIPTION:Fred Khumalo will be in conversation with Karabo Kgoleng.
URL:https://bookamoso.co.za/event/book-launch-two-tons-o-fun-fred-khumalo/
LOCATION:Exclusive Books Cresta\, Shop U48 (next to Lush and across from Game)\, Johannesburg\, Gauteng\, South Africa
CATEGORIES:Book Launch
ATTACH;FMTTYPE=image/jpeg:https://bookamoso.co.za/wp-content/uploads/2022/04/FNzhkAOWUAkGvuD.jpeg
ORGANIZER;CN="Exclusive Books":MAILTO:events@exclusivebooks.co.za
END:VEVENT
BEGIN:VEVENT
DTSTART;TZID=UTC:20220412T180000
DTEND;TZID=UTC:20220412T193000
DTSTAMP:20260423T232242
CREATED:20220408T090008Z
LAST-MODIFIED:20220408T090008Z
UID:2470-1649786400-1649791800@bookamoso.co.za
SUMMARY:Book Launch: Now You Know How Mapetla Died - Zikhona Valela
DESCRIPTION:Zikhona Valela will be in conversation with Vusi Mchunu.
URL:https://bookamoso.co.za/event/book-launch-now-you-know-how-mapetla-died-zikhona-valela/
LOCATION:Exclusive Books Rosebank\, The Mall of Rosebank\, Johannesburg\, Gauteng\, South Africa
CATEGORIES:Book Launch
ATTACH;FMTTYPE=image/png:https://bookamoso.co.za/wp-content/uploads/2022/04/FPGr_UTXEAY23CY.png
ORGANIZER;CN="Exclusive Books":MAILTO:events@exclusivebooks.co.za
END:VEVENT
BEGIN:VEVENT
DTSTART;TZID=UTC:20220412T173000
DTEND;TZID=UTC:20220412T193000
DTSTAMP:20260423T232242
CREATED:20220408T095247Z
LAST-MODIFIED:20220408T095247Z
UID:2475-1649784600-1649791800@bookamoso.co.za
SUMMARY:Book Launch: Peach Country by Nondwe Mpuma
DESCRIPTION:
URL:https://bookamoso.co.za/event/book-launch-peach-country-by-nondwe-mpuma/
LOCATION:Exclusive Books Cavendish Square\, 12 Cavendish St. Claremont\, Cape Town\, Western Cape\, 7708\, South Africa
CATEGORIES:Book Launch
ATTACH;FMTTYPE=image/jpeg:https://bookamoso.co.za/wp-content/uploads/2022/04/FPzV15AXMAQC5tC.jpeg
END:VEVENT
BEGIN:VEVENT
DTSTART;TZID=UTC:20220406T180000
DTEND;TZID=UTC:20220406T193000
DTSTAMP:20260423T232242
CREATED:20220328T195000Z
LAST-MODIFIED:20220328T195000Z
UID:2445-1649268000-1649273400@bookamoso.co.za
SUMMARY:Book Launch: A Man\, A Fire\, A Corpse by Rofhiwa Maneta
DESCRIPTION:
URL:https://bookamoso.co.za/event/book-launch-a-man-a-fire-a-corpse-by-rofhiwa-maneta/
LOCATION:Book Circle Capital\, 26 Boxes\, 75 4th Ave\, Melville\, Johannesburg\, Gauteng\, 2109\, South Africa
CATEGORIES:Book Launch
ATTACH;FMTTYPE=image/png:https://bookamoso.co.za/wp-content/uploads/2022/03/274716408_1596964813993139_4317363164178717931_n.png
END:VEVENT
BEGIN:VEVENT
DTSTART;TZID=UTC:20220402T120000
DTEND;TZID=UTC:20220402T170000
DTSTAMP:20260423T232242
CREATED:20220314T090349Z
LAST-MODIFIED:20220314T090349Z
UID:2415-1648900800-1648918800@bookamoso.co.za
SUMMARY:Book Discussion: Broken Porcelain by Relebone Rirhandzu eAfrika
DESCRIPTION:Thabiso Mahlape will be in conversation with author\, Relebone Rirhandzu eAfrika. Talking Self care as Self love. \nPlease note that this is a paid event.
URL:https://bookamoso.co.za/event/book-discussion-broken-porcelain-by-relebone-rirhandzu-eafrika/
LOCATION:Perere\, Carlswald Deco Centre\, Johannesburg\, Gauteng\, South Africa
CATEGORIES:Book Discussion
ATTACH;FMTTYPE=image/jpeg:https://bookamoso.co.za/wp-content/uploads/2022/03/FNRvf8JXMAIulpE.jpeg
END:VEVENT
BEGIN:VEVENT
DTSTART;TZID=UTC:20220401T180000
DTEND;TZID=UTC:20220401T193000
DTSTAMP:20260423T232242
CREATED:20220328T201133Z
LAST-MODIFIED:20220328T201133Z
UID:2451-1648836000-1648841400@bookamoso.co.za
SUMMARY:Book Launch: Broken Porcelain by Relebone Rirhandzu eAfrika
DESCRIPTION:
URL:https://bookamoso.co.za/event/book-launch-broken-porcelain-by-relebone-rirhandzu-eafrika/
LOCATION:Book Circle Capital\, 26 Boxes\, 75 4th Ave\, Melville\, Johannesburg\, Gauteng\, 2109\, South Africa
CATEGORIES:Book Launch
ATTACH;FMTTYPE=image/jpeg:https://bookamoso.co.za/wp-content/uploads/2022/03/276997561_1602400520116235_4786311200438179486_n.jpeg
END:VEVENT
BEGIN:VEVENT
DTSTART;TZID=UTC:20220331T180000
DTEND;TZID=UTC:20220331T190000
DTSTAMP:20260423T232242
CREATED:20220328T195934Z
LAST-MODIFIED:20220328T195934Z
UID:2448-1648749600-1648753200@bookamoso.co.za
SUMMARY:Transformation in the South African Publishing Sector
DESCRIPTION:
URL:https://bookamoso.co.za/event/transformation-in-the-south-african-publishing-sector/
LOCATION:Western Cape
CATEGORIES:Book Discussion
ATTACH;FMTTYPE=image/jpeg:https://bookamoso.co.za/wp-content/uploads/2022/03/Transformation-in-the-South-African-publishing-sector-Twitter-Flyer-Second-discussion-FA-1.jpg
END:VEVENT
BEGIN:VEVENT
DTSTART;TZID=UTC:20220329T180000
DTEND;TZID=UTC:20220329T193000
DTSTAMP:20260423T232242
CREATED:20220314T103044Z
LAST-MODIFIED:20220314T103044Z
UID:2420-1648576800-1648582200@bookamoso.co.za
SUMMARY:Book Launch: Two Tons o' Fun by Fred Khumalo
DESCRIPTION:Fred Khumalo will be in conversation with Sewela Langeni.
URL:https://bookamoso.co.za/event/book-launch-two-tons-o-fun-by-fred-khumalo/
LOCATION:Book Circle Capital\, 26 Boxes\, 75 4th Ave\, Melville\, Johannesburg\, Gauteng\, 2109\, South Africa
CATEGORIES:Book Launch
ATTACH;FMTTYPE=image/jpeg:https://bookamoso.co.za/wp-content/uploads/2022/03/FM2Wh0dXIAIB_DG.jpeg
END:VEVENT
BEGIN:VEVENT
DTSTART;TZID=UTC:20220326T140000
DTEND;TZID=UTC:20220326T153000
DTSTAMP:20260423T232242
CREATED:20220323T093533Z
LAST-MODIFIED:20220323T093533Z
UID:2436-1648303200-1648308600@bookamoso.co.za
SUMMARY:Book Discussion: Nelly Page Magwaza in Conversation with Ayanda Xaba
DESCRIPTION:Nelly Page Magwaza will be discussing her three books\, The Beloved MaShenge\, Dear Khethelo and Sabatha the Begetter with author\, Ayanda Xaba.
URL:https://bookamoso.co.za/event/book-discussion-nelly-page-magwaza-in-conversation-with-ayanda-xaba/
LOCATION:Bridge Books\, 98 Commissioner Street\, Marshalltown\, Johannesburg\, Gauteng\, 2000\, South Africa
CATEGORIES:Book Discussion
ATTACH;FMTTYPE=image/png:https://bookamoso.co.za/wp-content/uploads/2022/03/277228934_1509674759427464_1992607974367184048_n.png
END:VEVENT
BEGIN:VEVENT
DTSTART;TZID=UTC:20220326T110000
DTEND;TZID=UTC:20220326T123000
DTSTAMP:20260423T232242
CREATED:20220323T092722Z
LAST-MODIFIED:20220323T092722Z
UID:2433-1648292400-1648297800@bookamoso.co.za
SUMMARY:Book Launch: Traded by Kongo Alexis
DESCRIPTION:Kongo Alexis  will be in conversation with Lorraine Sithole. They will be discussing Kongo’s first book in a trilogy. \n 
URL:https://bookamoso.co.za/event/book-launch-traded-by-kongo-alexis/
LOCATION:Bridge Books\, 98 Commissioner Street\, Marshalltown\, Johannesburg\, Gauteng\, 2000\, South Africa
CATEGORIES:Book Launch
ATTACH;FMTTYPE=image/jpeg:https://bookamoso.co.za/wp-content/uploads/2022/03/276043791_370538861601649_5083998608949130644_n.jpeg
END:VEVENT
BEGIN:VEVENT
DTSTART;TZID=UTC:20220323T183000
DTEND;TZID=UTC:20220323T193000
DTSTAMP:20260423T232242
CREATED:20220322T182855Z
LAST-MODIFIED:20220322T182855Z
UID:2429-1648060200-1648063800@bookamoso.co.za
SUMMARY:Book Launch: Love and Above by Sarah Bullen
DESCRIPTION:
URL:https://bookamoso.co.za/event/book-launch-love-and-above-by-sarah-bullen/
LOCATION:Exclusive Books Hyde Park\, Hyde Park Corner\, cnr Jan Smuts Ave & William Nicol Drive\, Johannesburg\, Gauteng\, South Africa
CATEGORIES:Book Launch
ATTACH;FMTTYPE=image/png:https://bookamoso.co.za/wp-content/uploads/2022/03/FNew7WVXEAAIKvf.png
END:VEVENT
BEGIN:VEVENT
DTSTART;TZID=UTC:20220315T180000
DTEND;TZID=UTC:20220315T193000
DTSTAMP:20260423T232242
CREATED:20220314T104144Z
LAST-MODIFIED:20220314T104144Z
UID:2425-1647367200-1647372600@bookamoso.co.za
SUMMARY:Book Launch: Chasing Marian
DESCRIPTION:
URL:https://bookamoso.co.za/event/book-launch-chasing-marian/
LOCATION:Exclusive Books Rosebank\, The Mall of Rosebank\, Johannesburg\, Gauteng\, South Africa
CATEGORIES:Book Launch
ATTACH;FMTTYPE=image/jpeg:https://bookamoso.co.za/wp-content/uploads/2022/03/FNy9LS6WQAIGz3f.jpeg
END:VEVENT
BEGIN:VEVENT
DTSTART;TZID=UTC:20220310T173000
DTEND;TZID=UTC:20220310T193000
DTSTAMP:20260423T232242
CREATED:20220221T152532Z
LAST-MODIFIED:20220221T152532Z
UID:2406-1646933400-1646940600@bookamoso.co.za
SUMMARY:Book Discussion: The Promise - Damon Galgut
DESCRIPTION:Damon Galgut will be in conversation with Mervyn Sloman.
URL:https://bookamoso.co.za/event/book-discussion-the-promise-damon-galgut/
LOCATION:Book Lounge\, 71 Roeland Street\, Cape Town\, Western Cape\, South Africa
CATEGORIES:Book Discussion
ATTACH;FMTTYPE=image/jpeg:https://bookamoso.co.za/wp-content/uploads/2022/02/FLuGVCzWYAU-Uu6.jpeg
END:VEVENT
BEGIN:VEVENT
DTSTART;TZID=UTC:20220228T100000
DTEND;TZID=UTC:20220228T170000
DTSTAMP:20260423T232242
CREATED:20220221T134529Z
LAST-MODIFIED:20220221T134529Z
UID:2388-1646042400-1646067600@bookamoso.co.za
SUMMARY:Book Lovers Market Language Festival
DESCRIPTION:Address: 2525 D. P. Kgotleng Street\, \nMontshioa\, Mahikeng
URL:https://bookamoso.co.za/event/book-lovers-market-language-festival/
LOCATION:Western Cape
CATEGORIES:Book Fest
END:VEVENT
BEGIN:VEVENT
DTSTART;TZID=UTC:20220226T110000
DTEND;TZID=UTC:20220226T120000
DTSTAMP:20260423T232242
CREATED:20220221T153131Z
LAST-MODIFIED:20220221T153131Z
UID:2409-1645873200-1645876800@bookamoso.co.za
SUMMARY:Outdoor Book Reading: Modimo o a go Rata - Thabiso Sikwane
DESCRIPTION:
URL:https://bookamoso.co.za/event/outdoor-book-reading-modimo-o-a-go-rata-thabiso-sikwane/
LOCATION:Book Circle Capital\, 26 Boxes\, 75 4th Ave\, Melville\, Johannesburg\, Gauteng\, 2109\, South Africa
CATEGORIES:Book Reading
ATTACH;FMTTYPE=image/jpeg:https://bookamoso.co.za/wp-content/uploads/2022/02/FMHvsBTXwAIOuHS.jpeg
END:VEVENT
BEGIN:VEVENT
DTSTART;TZID=UTC:20220224T180000
DTEND;TZID=UTC:20220224T193000
DTSTAMP:20260423T232242
CREATED:20220221T144248Z
LAST-MODIFIED:20220221T144248Z
UID:2400-1645725600-1645731000@bookamoso.co.za
SUMMARY:Book Discussion: Native Merchants - Phakamisa Ndzamela
DESCRIPTION:The author will be in conversation with Dr Bongani Ngqulunga.
URL:https://bookamoso.co.za/event/book-discussion-native-merchants-phakamisa-ndzamela/
LOCATION:Book Circle Capital\, 26 Boxes\, 75 4th Ave\, Melville\, Johannesburg\, Gauteng\, 2109\, South Africa
CATEGORIES:Book Discussion
ATTACH;FMTTYPE=image/jpeg:https://bookamoso.co.za/wp-content/uploads/2022/02/FLOHZyAXoAUwQPY.jpeg
END:VEVENT
BEGIN:VEVENT
DTSTART;TZID=UTC:20220224T180000
DTEND;TZID=UTC:20220224T193000
DTSTAMP:20260423T232242
CREATED:20220221T143941Z
LAST-MODIFIED:20220221T143941Z
UID:2392-1645725600-1645731000@bookamoso.co.za
SUMMARY:Book Launch: It Doesn't Have to be This Way - Alistair Mackay
DESCRIPTION:Mia Ardene\, author of Mermaid Fillet will be in conversation with Alistair Mackay.
URL:https://bookamoso.co.za/event/book-launch-it-doesnt-have-to-be-this-way-alistair-mackay/
LOCATION:Exclusive Books V&A Waterfront\, 6160 Victoria Wharf\, 1 Breakwater Blvd\, Victoria & Alfred Waterfront\, Cape Town\, Western Cape
CATEGORIES:Book Launch
ATTACH;FMTTYPE=image/jpeg:https://bookamoso.co.za/wp-content/uploads/2022/02/FMHOTYfXwAETLjN.jpeg
END:VEVENT
END:VCALENDAR