BEGIN:VCALENDAR
VERSION:2.0
PRODID:-//Bookamoso Book Club - ECPv6.13.2.1//NONSGML v1.0//EN
CALSCALE:GREGORIAN
METHOD:PUBLISH
X-ORIGINAL-URL:https://bookamoso.co.za
X-WR-CALDESC:Events for Bookamoso Book Club
REFRESH-INTERVAL;VALUE=DURATION:PT1H
X-Robots-Tag:noindex
X-PUBLISHED-TTL:PT1H
BEGIN:VTIMEZONE
TZID:UTC
BEGIN:STANDARD
TZOFFSETFROM:+0000
TZOFFSETTO:+0000
TZNAME:UTC
DTSTART:20170101T000000
END:STANDARD
END:VTIMEZONE
BEGIN:VEVENT
DTSTART;TZID=UTC:20191112T180000
DTEND;TZID=UTC:20191112T193000
DTSTAMP:20260425T023925
CREATED:20191029T155100Z
LAST-MODIFIED:20191029T162614Z
UID:1089-1573581600-1573587000@bookamoso.co.za
SUMMARY:Book Launch: Siren by Kuli Roberts
DESCRIPTION:Kuli will be in conversation with Karabo Kgoleng. \n“Soon they were engaged in a bout of frantic fucking\, Clifton moaning as he’d never moaned before\, and when Zinhle reached orgasm her entire body trembled\, having long been deprived of such pleasures. She’d been more intrusive this time\, cupping his balls during oral sex and inserting her ﬁnger into his anus. It gave him pleasure\, and she loved that it did\, loved fucking him\, loving everything about the whole experience.” \nKuli Roberts’s debut novel about the life of Zinhle is ﬁlled with sex\, drugs\, alcohol and nothing short of a tabloid scandal. Abandoned by her father\, she was raised by her single mother\, Mabel in Dobsonville. Growing up\, she always knew she would be a superstar\, and landing starring roles in leading telenovelas had become a norm. Her journey to stardom is ﬁ lled with both pain and pleasure; she lives through a sham marriage\, being a lover of a Nollywood high roller\, attending sex parties and an affair with a footballer. She bed hops from man to powerful man\, overcoming cattiness\, rivalry\, cheating and dodgy agents. \nABOUT THE AUTHOR\nKuli Roberts has enjoyed a long and varied career in the media industry. Starting at Fair Lady\, as a journalist she has worked as Fashion and Beauty Editor for Drum\, as a gossip columnist at You magazine\, as the editor of Pace and as a columnist for Sunday World. As a television presenter she has graced such iconic programmes as What Not to Wear\, The Toasty Show\, The Real Goboza and Trending on Style. She is currently one of the main hosts of the popular TV show Trending SA (SABC 3)\, keeping a keen and perceptive eye on all that is current on social media. Siren is her ﬁrst novel and foray into the world of ﬁction.
URL:https://bookamoso.co.za/event/book-launch-siren-by-kuli-roberts/
LOCATION:Ster Kinekor Court\, Mall of Africa\, Lower Level\, Lone Creek Crescent\, Waterfall City\, Johannesburg\, Gauteng\, South Africa
CATEGORIES:Book Launch
END:VEVENT
BEGIN:VEVENT
DTSTART;TZID=UTC:20191109T110000
DTEND;TZID=UTC:20191109T120000
DTSTAMP:20260425T023925
CREATED:20191106T114716Z
LAST-MODIFIED:20191106T114716Z
UID:1130-1573297200-1573300800@bookamoso.co.za
SUMMARY:Book Launch: Explore! Awesome South African Artists
DESCRIPTION:
URL:https://bookamoso.co.za/event/book-launch-explore-awesome-south-african-artists/
LOCATION:The Atelier\, 44 Stanley Avenue\, Johannesburg
CATEGORIES:Book Launch,Bookish Event
ORGANIZER;CN="Jacana Media":MAILTO:thandeka@jacana.co.za
END:VEVENT
BEGIN:VEVENT
DTSTART;TZID=UTC:20191107T180000
DTEND;TZID=UTC:20191107T193000
DTSTAMP:20260425T023925
CREATED:20191106T115155Z
LAST-MODIFIED:20191106T115155Z
UID:1133-1573149600-1573155000@bookamoso.co.za
SUMMARY:Book Launch: Catching Tadpoles
DESCRIPTION:Ronnie Kasrils will be in conversation with Mark Gevisser.
URL:https://bookamoso.co.za/event/book-launch-catching-tadpoles/
LOCATION:Exclusive Books Hyde Park\, Hyde Park Corner\, cnr Jan Smuts Ave & William Nicol Drive\, Johannesburg\, Gauteng\, South Africa
CATEGORIES:Book Launch
ORGANIZER;CN="Jacana Media":MAILTO:thandeka@jacana.co.za
END:VEVENT
BEGIN:VEVENT
DTSTART;TZID=UTC:20191106T180000
DTEND;TZID=UTC:20191106T193000
DTSTAMP:20260425T023925
CREATED:20191106T115558Z
LAST-MODIFIED:20191106T115558Z
UID:1135-1573063200-1573068600@bookamoso.co.za
SUMMARY:Book Launch: I Keep Learning
DESCRIPTION:Unathi will be in conversation with Kabomo and Melanie Bala as MC for the evening.
URL:https://bookamoso.co.za/event/book-launch-i-keep-learning/
LOCATION:Exclusive Books Rosebank\, The Mall of Rosebank\, Johannesburg\, Gauteng\, South Africa
CATEGORIES:Book Launch,Bookish Event
END:VEVENT
BEGIN:VEVENT
DTSTART;TZID=UTC:20191106T180000
DTEND;TZID=UTC:20191106T193000
DTSTAMP:20260425T023925
CREATED:20191023T093549Z
LAST-MODIFIED:20191023T093549Z
UID:1036-1573063200-1573068600@bookamoso.co.za
SUMMARY:Book Launch: Ndileka Mandela\, I Am Ndileka
DESCRIPTION:
URL:https://bookamoso.co.za/event/book-launch-ndileka-mandela-i-am-ndileka/
LOCATION:Exclusive Books Sandton\, Shop L10\, Sandton City\, Johannesburg\, Gauteng\, South Africa
CATEGORIES:Book Launch
ORGANIZER;CN="Exclusive Books Sandton City":MAILTO:events@exclusivebooks.co.za
END:VEVENT
BEGIN:VEVENT
DTSTART;TZID=UTC:20191031T150000
DTEND;TZID=UTC:20191031T190000
DTSTAMP:20260425T023925
CREATED:20191029T135354Z
LAST-MODIFIED:20191029T135354Z
UID:1078-1572534000-1572548400@bookamoso.co.za
SUMMARY:Cheese & Wine Thursdays @ Afrokulcha
DESCRIPTION:Join Afrokulcha as they host an author for their weekly cheese and wine Thursday.  There’ll be a variety of African books\, clothing and accessories to choose from including bead-work. Unbecoming to Become author and actress\, Ayanda Borotho will be signing books.
URL:https://bookamoso.co.za/event/cheese-wine-thursdays-afrokulcha-2/
LOCATION:Afrokulcha Showroom\, 99 Bowling Avenue\, Morningside Manor\, Johannesburg\, Gauteng\, South Africa
CATEGORIES:Book Discussion,Bookish Event
END:VEVENT
BEGIN:VEVENT
DTSTART;TZID=UTC:20191026T120000
DTEND;TZID=UTC:20191026T153000
DTSTAMP:20260425T023925
CREATED:20191023T143132Z
LAST-MODIFIED:20191023T143132Z
UID:1065-1572091200-1572103800@bookamoso.co.za
SUMMARY:Self Publishing Info Session
DESCRIPTION:If you’re an aspiring author\, join the Fat Cats Book Club as they host this information session. Owner and Manager of Book Circle Capital\, Sewela Langeni will be facilitating this session.
URL:https://bookamoso.co.za/event/self-publishing-info-session/
LOCATION:Book Circle Capital\, 26 Boxes\, 75 4th Ave\, Melville\, Johannesburg\, Gauteng\, 2109\, South Africa
CATEGORIES:Bookish Event
END:VEVENT
BEGIN:VEVENT
DTSTART;TZID=UTC:20191024T150000
DTEND;TZID=UTC:20191024T190000
DTSTAMP:20260425T023925
CREATED:20191023T141556Z
LAST-MODIFIED:20191023T141633Z
UID:1060-1571929200-1571943600@bookamoso.co.za
SUMMARY:Cheese & Wine Thursdays @ Afrokulcha
DESCRIPTION:Join Afrokulcha as they host an author for their weekly cheese and wine Thursday.  There’ll be a variety of African books\, clothing and accessories to choose from including bead-work.
URL:https://bookamoso.co.za/event/cheese-wine-thursdays-afrokulcha/
LOCATION:Afrokulcha Showroom\, 99 Bowling Avenue\, Morningside Manor\, Johannesburg\, Gauteng\, South Africa
CATEGORIES:Bookish Event
END:VEVENT
BEGIN:VEVENT
DTSTART;TZID=UTC:20180816T180000
DTEND;TZID=UTC:20180816T193000
DTSTAMP:20260425T023925
CREATED:20180717T092038Z
LAST-MODIFIED:20180717T092038Z
UID:830-1534442400-1534447800@bookamoso.co.za
SUMMARY:Book Discussion: Arundhati Roy
DESCRIPTION:
URL:https://bookamoso.co.za/event/book-discussion-arundhati-roy/
LOCATION:The Wits Club\, University of Witwatersrand\, 1 Jan Smuts Ave\, Braamfontein\, Johannesburg\, South Africa
ORGANIZER;CN="Penguin Random House CT":MAILTO:thendricks@penguinrandomhouse.co.za
END:VEVENT
BEGIN:VEVENT
DTSTART;TZID=UTC:20180813T173000
DTEND;TZID=UTC:20180813T193000
DTSTAMP:20260425T023925
CREATED:20180717T092410Z
LAST-MODIFIED:20180717T092410Z
UID:835-1534181400-1534188600@bookamoso.co.za
SUMMARY:Book Discussion: Arundhati Roy
DESCRIPTION:
URL:https://bookamoso.co.za/event/book-discussion-arundhati-roy-2/
LOCATION:Smuts Hall\, Residence Street\, University of Cape Town\, Rondebosch\, Cape Town\, Western Cape\, South Africa
ORGANIZER;CN="Penguin Random House CT":MAILTO:thendricks@penguinrandomhouse.co.za
END:VEVENT
BEGIN:VEVENT
DTSTART;TZID=UTC:20180717T180000
DTEND;TZID=UTC:20180717T193000
DTSTAMP:20260425T023925
CREATED:20180717T061025Z
LAST-MODIFIED:20180717T061025Z
UID:826-1531850400-1531855800@bookamoso.co.za
SUMMARY:Book Launch: Mirror Cracked by Raashida Khan
DESCRIPTION:Tonight\, Love Books will be hosting Raashida Khan for the launch of Mirror Cracked. She will be in conversation with Rehana Moosajee. \nPlease bring children’s books to donate to Siyafunda – an organization which collects books for rural schools. \n 
URL:https://bookamoso.co.za/event/book-launch-mirror-cracked-by-raashida-khan/
LOCATION:Love Books\, 53 Rustenburg Road\, Johannesburg\, Gauteng\, 2092\, South Africa
ORGANIZER;CN="Raashida Khan":MAILTO:khanraashida@gmail.com
END:VEVENT
BEGIN:VEVENT
DTSTART;TZID=UTC:20180414T140000
DTEND;TZID=UTC:20180414T160000
DTSTAMP:20260425T023925
CREATED:20180317T030359Z
LAST-MODIFIED:20180317T030359Z
UID:773-1523714400-1523721600@bookamoso.co.za
SUMMARY:Book Signing with Niq Mhlongo for Soweto\, Under the Apricot Tree
DESCRIPTION:
URL:https://bookamoso.co.za/event/book-signing-with-niq-mhlongo-for-soweto-under-the-apricot-tree-2/
LOCATION:Exclusive Books Cavendish Square\, 12 Cavendish St. Claremont\, Cape Town\, Western Cape\, 7708\, South Africa
END:VEVENT
BEGIN:VEVENT
DTSTART;TZID=UTC:20180414T100000
DTEND;TZID=UTC:20180414T120000
DTSTAMP:20260425T023925
CREATED:20180317T030132Z
LAST-MODIFIED:20180317T030132Z
UID:769-1523700000-1523707200@bookamoso.co.za
SUMMARY:Book Signing with Niq Mhlongo for Soweto\, Under the Apricot Tree
DESCRIPTION:
URL:https://bookamoso.co.za/event/book-signing-with-niq-mhlongo-for-soweto-under-the-apricot-tree/
LOCATION:Exclusive Books Canal Walk\, 428 Centuty Boulevard\, Century City\, Cape Town\, Western Cape\, South Africa
END:VEVENT
BEGIN:VEVENT
DTSTART;TZID=UTC:20180412T173000
DTEND;TZID=UTC:20180412T193000
DTSTAMP:20260425T023925
CREATED:20180317T025629Z
LAST-MODIFIED:20180317T025629Z
UID:765-1523554200-1523561400@bookamoso.co.za
SUMMARY:Book Launch: Soweto\, Under the Apricot Tree by Niq Mhlongo
DESCRIPTION:Mervyn Sloman will be in conversation with Niq.
URL:https://bookamoso.co.za/event/book-launch-soweto-under-the-apricot-tree-by-niq-mhlongo-3/
LOCATION:Book Lounge\, 71 Roeland Street\, Cape Town\, Western Cape\, South Africa
CATEGORIES:Book Launch
END:VEVENT
BEGIN:VEVENT
DTSTART;TZID=UTC:20180411T180000
DTEND;TZID=UTC:20180411T203000
DTSTAMP:20260425T023925
CREATED:20180317T023028Z
LAST-MODIFIED:20180317T023028Z
UID:758-1523469600-1523478600@bookamoso.co.za
SUMMARY:Book Launch: Soweto\, Under the Apricot Tree by Niq Mhlongo
DESCRIPTION:Akin Omotoso will be in conversation with Niq.
URL:https://bookamoso.co.za/event/book-launch-soweto-under-the-apricot-tree-by-niq-mhlongo-2/
LOCATION:Exclusive Books Menlyn Park Shopping Centre\, Atterbury Road & Llois Avenue\, Menlyn Park\, Pretoria\, Gauteng\, South Africa
ORGANIZER;CN="Exclusive Books Sandton City":MAILTO:events@exclusivebooks.co.za
END:VEVENT
BEGIN:VEVENT
DTSTART;TZID=UTC:20180410T180000
DTEND;TZID=UTC:20180410T203000
DTSTAMP:20260425T023925
CREATED:20180317T022049Z
LAST-MODIFIED:20180317T022049Z
UID:750-1523383200-1523392200@bookamoso.co.za
SUMMARY:Book Launch: Soweto\, Under the Apricot Tree by Niq Mhlongo
DESCRIPTION:Vincent Moloi will be in conversation with Niq.
URL:https://bookamoso.co.za/event/book-launch-soweto-under-the-apricot-tree-by-niq-mhlongo/
LOCATION:The Market Photo Workshop Auditorium\, 138 Lillian Ngoyi Street (old Breet Str)\, Newtown\, Johannesburg\, Gauteng\, South Africa
CATEGORIES:Book Launch
ORGANIZER;CN="Exclusive Books":MAILTO:events@exclusivebooks.co.za
END:VEVENT
BEGIN:VEVENT
DTSTART;TZID=UTC:20180210T090000
DTEND;TZID=UTC:20180210T103000
DTSTAMP:20260425T023925
CREATED:20180205T141031Z
LAST-MODIFIED:20180205T141031Z
UID:728-1518253200-1518258600@bookamoso.co.za
SUMMARY:Book Reading: Mpumi's Magic Beads by Lebohang Masango
DESCRIPTION:Because I love children’s books so much… Please take your kiddies to this book reading hosted by Thank You Books\, African Flavour Books and The Reading Club this coming Saturday at my favourite bookstore African Flavour Books\, Braamfontein. Let’s get the kids reading. \nPs. The lovely author will be there\, so come join in and have some fun with the kids! \n 
URL:https://bookamoso.co.za/event/book-reading-mpumis-magic-beads-by-lebohang-masango/
LOCATION:African Flavour Books\, 20 Melle Street\, Johannesburg\, Gauteng\, South Africa
ORGANIZER;CN="African Flavour Books Braamfontein":MAILTO:www.africanflavourbooks.com
END:VEVENT
BEGIN:VEVENT
DTSTART;TZID=UTC:20171122T173000
DTEND;TZID=UTC:20171122T193000
DTSTAMP:20260425T023925
CREATED:20171107T105639Z
LAST-MODIFIED:20171107T105639Z
UID:680-1511371800-1511379000@bookamoso.co.za
SUMMARY:Book Launch: Rehana Rossouw - New Times
DESCRIPTION:
URL:https://bookamoso.co.za/event/book-launch-rehana-rossouw-new-times/
LOCATION:Book Lounge\, 71 Roeland Street\, Cape Town\, Western Cape\, South Africa
END:VEVENT
BEGIN:VEVENT
DTSTART;TZID=UTC:20171025T180000
DTEND;TZID=UTC:20171025T193000
DTSTAMP:20260425T023925
CREATED:20171025T113829Z
LAST-MODIFIED:20171025T113829Z
UID:676-1508954400-1508959800@bookamoso.co.za
SUMMARY:NB-Publishers‎ and Exclusive Books Launches Democracy & Delusion by Sizwe-Mpofu Walsh
DESCRIPTION:
URL:https://bookamoso.co.za/event/nb-publishers%e2%80%8e-and-exclusive-books-launches-democracy-delusion-by-sizwe-mpofu-walsh/
LOCATION:Exclusive Books Rosebank\, The Mall of Rosebank\, Johannesburg\, Gauteng\, South Africa
END:VEVENT
BEGIN:VEVENT
DTSTART;TZID=UTC:20171021T140000
DTEND;TZID=UTC:20171021T153000
DTSTAMP:20260425T023925
CREATED:20171019T084648Z
LAST-MODIFIED:20171019T084648Z
UID:664-1508594400-1508599800@bookamoso.co.za
SUMMARY:Book Reading: Salome and Gogo Visit Soweto
DESCRIPTION:
URL:https://bookamoso.co.za/event/book-reading-salome-and-gogo-visit-soweto/
LOCATION:Skoobs\, Shop 74\, Montecasino Montecasino Boulevard\, Fourways\, Johannesburg\, Gauteng\, 2055\, South Africa
END:VEVENT
BEGIN:VEVENT
DTSTART;TZID=UTC:20171020T100000
DTEND;TZID=UTC:20171020T113000
DTSTAMP:20260425T023925
CREATED:20171012T071453Z
LAST-MODIFIED:20171012T071453Z
UID:649-1508493600-1508499000@bookamoso.co.za
SUMMARY:Coffee Morning with Sisonke Msimang
DESCRIPTION:
URL:https://bookamoso.co.za/event/coffee-morning-with-sisonke-msimang/
LOCATION:Love Books\, 53 Rustenburg Road\, Johannesburg\, Gauteng\, 2092\, South Africa
END:VEVENT
BEGIN:VEVENT
DTSTART;TZID=UTC:20171018T180000
DTEND;TZID=UTC:20171018T193000
DTSTAMP:20260425T023925
CREATED:20171011T152203Z
LAST-MODIFIED:20171011T152203Z
UID:641-1508349600-1508355000@bookamoso.co.za
SUMMARY:Shadow Chasers - Book 3 by Bontle Senne
DESCRIPTION:Ameera Patel will be chatting with Bontle Senne about her preteen fantasy adventure series.
URL:https://bookamoso.co.za/event/shadow-chasers-book-3-by-bontle-senne/
LOCATION:Love Books\, 53 Rustenburg Road\, Johannesburg\, Gauteng\, 2092\, South Africa
END:VEVENT
BEGIN:VEVENT
DTSTART;TZID=UTC:20171018T173000
DTEND;TZID=UTC:20171018T193000
DTSTAMP:20260425T023925
CREATED:20171011T144603Z
LAST-MODIFIED:20171012T085136Z
UID:637-1508347800-1508355000@bookamoso.co.za
SUMMARY:Book Launch: If I Stay Right Here by Chwayita Ngamlana
DESCRIPTION:Chwayita will be in conversation with Tshegofatso Senne.
URL:https://bookamoso.co.za/event/book-launch-if-i-stay-right-here-by-chwayita-ngamlana-2/
LOCATION:Western Cape
ORGANIZER;CN="Jacana Media":MAILTO:rsvp@jacana.co.za
END:VEVENT
BEGIN:VEVENT
DTSTART;TZID=UTC:20171017T180000
DTEND;TZID=UTC:20171017T193000
DTSTAMP:20260425T023925
CREATED:20171011T124043Z
LAST-MODIFIED:20171011T124043Z
UID:632-1508263200-1508268600@bookamoso.co.za
SUMMARY:Book Launch: Democracy & Delusion by Sizwe Mpofu-Walsh
DESCRIPTION:Sizwe will be in conversation with Tumi Sole. \nSource: Love Books
URL:https://bookamoso.co.za/event/book-launch-democracy-delusion-by-sizwe-mpofu-walsh/
LOCATION:Love Books\, 53 Rustenburg Road\, Johannesburg\, Gauteng\, 2092\, South Africa
END:VEVENT
BEGIN:VEVENT
DTSTART;TZID=UTC:20170930T100000
DTEND;TZID=UTC:20170930T113000
DTSTAMP:20260425T023925
CREATED:20170911T145833Z
LAST-MODIFIED:20170911T145833Z
UID:604-1506765600-1506771000@bookamoso.co.za
SUMMARY:Cath Alexander reads from Nyambura Waits for the Bus
DESCRIPTION:Cath Alexander will be reading from Nyanbura Waits for the Bus at Exclusive Books Dainfern Square.
URL:https://bookamoso.co.za/event/cath-alexander-reads-from-nyambura-waits-for-the-bus/
LOCATION:Western Cape
ORGANIZER;CN="Jacana Media":MAILTO:thandeka@jacana.co.za
END:VEVENT
BEGIN:VEVENT
DTSTART;TZID=UTC:20170928T180000
DTEND;TZID=UTC:20170928T193000
DTSTAMP:20260425T023925
CREATED:20170920T190449Z
LAST-MODIFIED:20170920T190449Z
UID:615-1506621600-1506627000@bookamoso.co.za
SUMMARY:Book Launch: Khwezi by Redi Tlhabi
DESCRIPTION:
URL:https://bookamoso.co.za/event/book-launch-khwezi-by-redi-tlhabi/
LOCATION:Love Books\, 53 Rustenburg Road\, Johannesburg\, Gauteng\, 2092\, South Africa
END:VEVENT
BEGIN:VEVENT
DTSTART;TZID=UTC:20170927T190000
DTEND;TZID=UTC:20170927T220000
DTSTAMP:20260425T023925
CREATED:20170927T084748Z
LAST-MODIFIED:20170927T084748Z
UID:627-1506538800-1506549600@bookamoso.co.za
SUMMARY:Book Launch: The Broken Men Chapbook by Afurakan
DESCRIPTION:Tonight Word N Sound Poetry and Live Music Series corner present the launch of @afurakan’s debut poetry collection – The Broken Men Chapbook. \nThe Broken Men Chapbook is aimed at continuing an important conversation about the condition and situation of black men. A reflection on Afurakan’s personal journey as a black man focusing on both the works within him and outside. \n– source: WNS Poetry Corner \n\n#BookLaunch\n#BrokenMen\n#SpokenWord\n#Afurakan\n#AChapBook
URL:https://bookamoso.co.za/event/book-launch-the-broken-men-chapbook-by-afurakan/
LOCATION:Black Ant Lounge\, I53 Gwigwi Mrwembi Street\, Johannesburg\, Gauteng\, 2001\, South Africa
END:VEVENT
BEGIN:VEVENT
DTSTART;TZID=UTC:20170923T080000
DTEND;TZID=UTC:20170925T233000
DTSTAMP:20260425T023925
CREATED:20170921T101510Z
LAST-MODIFIED:20170921T101510Z
UID:623-1506153600-1506382200@bookamoso.co.za
SUMMARY:3 Day R50 Off Discount off
DESCRIPTION:When you spend over R300 on South African or African books on the BookDealers website.
URL:https://bookamoso.co.za/event/3-day-r50-off-discount-off/
LOCATION:Western Cape
END:VEVENT
BEGIN:VEVENT
DTSTART;TZID=UTC:20170919T180000
DTEND;TZID=UTC:20170919T193000
DTSTAMP:20260425T023925
CREATED:20170911T150219Z
LAST-MODIFIED:20170911T150219Z
UID:606-1505844000-1505849400@bookamoso.co.za
SUMMARY:Book Launch: Guide to Sieges of South Africa by Nicki Von Der Heyde
DESCRIPTION:Join Penguin Random House and Nicki von der Heyde as they launch Guide to Sieges of South Africa at Love Books.
URL:https://bookamoso.co.za/event/book-launch-guide-to-sieges-of-south-africa-by-nicki-von-der-heyde/
LOCATION:Love Books\, 53 Rustenburg Road\, Johannesburg\, Gauteng\, 2092\, South Africa
ORGANIZER;CN="Love Books":MAILTO:kate@lovebooks.co.za
END:VEVENT
BEGIN:VEVENT
DTSTART;TZID=UTC:20170916T100000
DTEND;TZID=UTC:20170916T113000
DTSTAMP:20260425T023925
CREATED:20170911T100259Z
LAST-MODIFIED:20170911T100259Z
UID:600-1505556000-1505561400@bookamoso.co.za
SUMMARY:Reading of The Elders at the Door
DESCRIPTION:Maryanne Bester will be reading from The Elders at the Door
URL:https://bookamoso.co.za/event/reading-of-the-elders-at-the-door/
LOCATION:Sandton Library\, Nelson Mandela Square\, Johannesburg\, Gauteng\, South Africa
ORGANIZER;CN="Jacana Media":MAILTO:thandeka@jacana.co.za
END:VEVENT
END:VCALENDAR