BEGIN:VCALENDAR
VERSION:2.0
PRODID:-//Bookamoso Book Club - ECPv6.13.2.1//NONSGML v1.0//EN
CALSCALE:GREGORIAN
METHOD:PUBLISH
X-WR-CALNAME:Bookamoso Book Club
X-ORIGINAL-URL:https://bookamoso.co.za
X-WR-CALDESC:Events for Bookamoso Book Club
REFRESH-INTERVAL;VALUE=DURATION:PT1H
X-Robots-Tag:noindex
X-PUBLISHED-TTL:PT1H
BEGIN:VTIMEZONE
TZID:UTC
BEGIN:STANDARD
TZOFFSETFROM:+0000
TZOFFSETTO:+0000
TZNAME:UTC
DTSTART:20190101T000000
END:STANDARD
END:VTIMEZONE
BEGIN:VEVENT
DTSTART;TZID=UTC:20210513T183000
DTEND;TZID=UTC:20210513T193000
DTSTAMP:20260423T230333
CREATED:20210506T045613Z
LAST-MODIFIED:20210506T045613Z
UID:1962-1620930600-1620934200@bookamoso.co.za
SUMMARY:Book Discussion: Uncaptured - Mosilo Mothepu
DESCRIPTION:
URL:https://bookamoso.co.za/event/book-discussion-uncaptured-mosilo-mothepu/
LOCATION:Book Circle Capital\, 26 Boxes\, 75 4th Ave\, Melville\, Johannesburg\, Gauteng\, 2109\, South Africa
CATEGORIES:Book Discussion,Bookish Event
ATTACH;FMTTYPE=image/jpeg:https://bookamoso.co.za/wp-content/uploads/2021/05/E0o5nGxXoAEEUZH.jpeg
END:VEVENT
BEGIN:VEVENT
DTSTART;TZID=UTC:20210508T110000
DTEND;TZID=UTC:20210508T130000
DTSTAMP:20260423T230333
CREATED:20210506T043247Z
LAST-MODIFIED:20210506T043247Z
UID:1940-1620471600-1620478800@bookamoso.co.za
SUMMARY:Book Signing: The Boy Who Never Gave Up - Dr. Emmanuel Taban
DESCRIPTION:
URL:https://bookamoso.co.za/event/book-signing-the-boy-who-never-gave-up-dr-emmanuel-taban/
LOCATION:Exclusive Bedford\, Cnr Smith & Van der Linde Rd\, Bedfordview\, Johannesburg\, Gauteng
CATEGORIES:Book Signing,Bookish Event
ATTACH;FMTTYPE=image/jpeg:https://bookamoso.co.za/wp-content/uploads/2021/05/The-Boy.jpeg
ORGANIZER;CN="Exclusive Books":MAILTO:events@exclusivebooks.co.za
END:VEVENT
BEGIN:VEVENT
DTSTART;TZID=UTC:20210506T180000
DTEND;TZID=UTC:20210506T190000
DTSTAMP:20260423T230333
CREATED:20210428T111855Z
LAST-MODIFIED:20210428T111855Z
UID:1912-1620324000-1620327600@bookamoso.co.za
SUMMARY:Book Launch: The Black Girl's Guide to Corporate South Africa
DESCRIPTION:This is an online webinar. Please see poster for details on registering for the launch. \nGet your copy here: https://www.exclusivebooks.co.za/product/9780624090946 \nThis timely memoir-cum-guide includes the insights of black women at various stages of their career as they navigate the pitfalls of the corporate world. \nA performance review of the working world introduced to the young women reveals issues such as racism\, sexism\, ethnic chauvinism\, ageism\, and sexual harassment that many encounter with naivety. When technical expertise and hard work are not the issue\, how do black women make the most of their efforts and support each other to success?
URL:https://bookamoso.co.za/event/book-launch-the-black-girls-guide-to-corporate-south-africa-2/
LOCATION:Gauteng
CATEGORIES:Book Launch,Bookish Event
ATTACH;FMTTYPE=image/jpeg:https://bookamoso.co.za/wp-content/uploads/2021/04/Black-girls-guide_invite.jpg
END:VEVENT
BEGIN:VEVENT
DTSTART;TZID=UTC:20210506T173000
DTEND;TZID=UTC:20210506T190000
DTSTAMP:20260423T230333
CREATED:20210506T043838Z
LAST-MODIFIED:20210506T043838Z
UID:1952-1620322200-1620327600@bookamoso.co.za
SUMMARY:Book Launch: Cosmonauts Do It In Heaven - Keith Gottschalk
DESCRIPTION:
URL:https://bookamoso.co.za/event/book-launch-cosmonauts-do-it-in-heaven-keith-gottschalk/
LOCATION:Exclusive Books Cavendish Square\, 12 Cavendish St. Claremont\, Cape Town\, Western Cape\, 7708\, South Africa
CATEGORIES:Book Launch,Bookish Event
ATTACH;FMTTYPE=image/jpeg:https://bookamoso.co.za/wp-content/uploads/2021/05/E0na6XpXIAYLPcr.jpeg
ORGANIZER;CN="Exclusive Books":MAILTO:events@exclusivebooks.co.za
END:VEVENT
BEGIN:VEVENT
DTSTART;TZID=UTC:20210501T090000
DTEND;TZID=UTC:20210501T150000
DTSTAMP:20260423T230333
CREATED:20210429T092736Z
LAST-MODIFIED:20210429T092736Z
UID:1921-1619859600-1619881200@bookamoso.co.za
SUMMARY:Rand Club Book Day
DESCRIPTION:Join Rand Club for an exciting Book Day on Saturday 1 May from 09h00am – 15h00pm. \nWe have an incredible line up of talks\, tours and book stalls. Tickets just R100 for the entire day. Rand Club Members free. Bookings with roanne@randclub.co.za for RSVP.
URL:https://bookamoso.co.za/event/rand-club-book-day/
LOCATION:Rand Club\, 33 Loveday Street\, Johannesburg\, Gauteng\, 2001\, South Africa
CATEGORIES:Book Discussion,Book Fest,Book Festival,Bookish Event
ATTACH;FMTTYPE=image/jpeg:https://bookamoso.co.za/wp-content/uploads/2021/04/EB93DB54-083D-40CD-B639-3368CAAF082E.jpg
END:VEVENT
BEGIN:VEVENT
DTSTART;TZID=UTC:20210327T110000
DTEND;TZID=UTC:20210327T130000
DTSTAMP:20260423T230333
CREATED:20210315T170845Z
LAST-MODIFIED:20210315T170845Z
UID:1872-1616842800-1616850000@bookamoso.co.za
SUMMARY:Author Speed Date & Book Signing: Yvette Ratshikopha
DESCRIPTION:
URL:https://bookamoso.co.za/event/author-speed-date-book-signing-yvette-ratshikopha/
LOCATION:Book Circle Capital\, 26 Boxes\, 75 4th Ave\, Melville\, Johannesburg\, Gauteng\, 2109\, South Africa
CATEGORIES:Bookish Event
ATTACH;FMTTYPE=image/jpeg:https://bookamoso.co.za/wp-content/uploads/2021/03/Book-Circle-Capital-27-03.jpg
END:VEVENT
BEGIN:VEVENT
DTSTART;TZID=UTC:20210320T110000
DTEND;TZID=UTC:20210320T120000
DTSTAMP:20260423T230333
CREATED:20210315T152914Z
LAST-MODIFIED:20210315T152914Z
UID:1868-1616238000-1616241600@bookamoso.co.za
SUMMARY:I Have Brown Skin and Curly Hair - An Outdoor Book Reading
DESCRIPTION:Book Circle Capital will be hosting an Outdoor Book Reading of I Have Brown Skin and Curly Hair by Karen Theunissen.
URL:https://bookamoso.co.za/event/i-have-brown-skin-and-curly-hair-an-outdoor-book-reading/
LOCATION:Book Circle Capital\, 26 Boxes\, 75 4th Ave\, Melville\, Johannesburg\, Gauteng\, 2109\, South Africa
CATEGORIES:Book Reading,Bookish Event,Childrens Book Event
ATTACH;FMTTYPE=image/jpeg:https://bookamoso.co.za/wp-content/uploads/2021/03/Kiddies-Book-Circle-Capital-27-03.jpg
END:VEVENT
BEGIN:VEVENT
DTSTART;TZID=UTC:20210318T170000
DTEND;TZID=UTC:20210318T200000
DTSTAMP:20260423T230333
CREATED:20210316T133302Z
LAST-MODIFIED:20210316T133302Z
UID:1881-1616086800-1616097600@bookamoso.co.za
SUMMARY:Cheese & Wine Evening with AfroKulcha: Loving in Midrand
DESCRIPTION:Afrokulcha hosts these weekly Cheese & Wine Thursdays. They’re now in-person as of this one. Follow Afrokulcha here to keep in touch with their events and book sales.
URL:https://bookamoso.co.za/event/cheese-wine-evening-with-afrokulcha-loving-in-midrand/
LOCATION:Afrokulcha Showroom\, 99 Bowling Avenue\, Morningside Manor\, Johannesburg\, Gauteng\, South Africa
CATEGORIES:Book Discussion,Bookish Event
ATTACH;FMTTYPE=image/jpeg:https://bookamoso.co.za/wp-content/uploads/2021/03/Loving-in-Midrand.jpeg
ORGANIZER;CN="Afrokulcha":MAILTO:info@afrokulcha.co.za
END:VEVENT
BEGIN:VEVENT
DTSTART;TZID=UTC:20200911T090000
DTEND;TZID=UTC:20200913T170000
DTSTAMP:20260423T230333
CREATED:20200314T054355Z
LAST-MODIFIED:20200314T062830Z
UID:1596-1599814800-1600016400@bookamoso.co.za
SUMMARY:SA Book Fair: Save the Dates!
DESCRIPTION:
URL:https://bookamoso.co.za/event/sa-book-fair-save-the-dates/
LOCATION:Constitution Hill Human Rights Precinct\, 11 Kotze Street\, Johannesburg\, Gauteng\, 2017\, South Africa
CATEGORIES:Book Fest,Book Festival,Bookish Event
ATTACH;FMTTYPE=image/jpeg:https://bookamoso.co.za/wp-content/uploads/2020/03/IMG_25331.jpg
ORGANIZER;CN="South African Book Fair":MAILTO:info@southafricanbookfair.co.za
END:VEVENT
BEGIN:VEVENT
DTSTART;TZID=UTC:20200907T090000
DTEND;TZID=UTC:20200913T170000
DTSTAMP:20260423T230333
CREATED:20200314T062431Z
LAST-MODIFIED:20200314T062431Z
UID:1601-1599469200-1600016400@bookamoso.co.za
SUMMARY:National Book Week
DESCRIPTION:
URL:https://bookamoso.co.za/event/national-book-week/
LOCATION:Gauteng
CATEGORIES:Bookish Event
ATTACH;FMTTYPE=image/jpeg:https://bookamoso.co.za/wp-content/uploads/2020/03/IMG_25321.jpg
ORGANIZER;CN="South African Book Fair":MAILTO:info@southafricanbookfair.co.za
END:VEVENT
BEGIN:VEVENT
DTSTART;TZID=UTC:20200604T180000
DTEND;TZID=UTC:20200604T193000
DTSTAMP:20260423T230333
CREATED:20200217T062946Z
LAST-MODIFIED:20200217T062946Z
UID:1489-1591293600-1591299000@bookamoso.co.za
SUMMARY:An Evening with Elizabeth Gilbert - Johannesburg
DESCRIPTION:Author of Eat Pray Love will be discussing her latest book City of Girls. \nTickets are from R450.00pp
URL:https://bookamoso.co.za/event/an-evening-with-elizabeth-gilbert-johannesburg/
LOCATION:Teatro Montecasino\, Montecasino\, 1 Montecasino Blvd\, Johannesburg\, Gauteng\, 2055\, South Africa
CATEGORIES:Book Reading,Bookish Event
ATTACH;FMTTYPE=image/jpeg:https://bookamoso.co.za/wp-content/uploads/2020/02/IMG_14241.jpg
END:VEVENT
BEGIN:VEVENT
DTSTART;TZID=UTC:20200602T180000
DTEND;TZID=UTC:20200602T193000
DTSTAMP:20260423T230333
CREATED:20200217T062235Z
LAST-MODIFIED:20200217T063021Z
UID:1485-1591120800-1591126200@bookamoso.co.za
SUMMARY:An Evening with Elizabeth Gilbert - Cape Town
DESCRIPTION:Author of Eat Pray Love will be discussing her latest book City of Girls. \nTickets are from R450.00pp \n 
URL:https://bookamoso.co.za/event/an-evening-with-elizabeth-gilbert/
LOCATION:The Baxter Theatre\, University of Cape Town\, Main Rd\, Rondebosch\,\, Cape Town\, Western Cape\, 7700\, South Africa
CATEGORIES:Book Reading,Bookish Event
ATTACH;FMTTYPE=image/jpeg:https://bookamoso.co.za/wp-content/uploads/2020/02/IMG_14241.jpg
END:VEVENT
BEGIN:VEVENT
DTSTART;TZID=UTC:20200326T180000
DTEND;TZID=UTC:20200326T203000
DTSTAMP:20260423T230333
CREATED:20200314T064328Z
LAST-MODIFIED:20200314T064328Z
UID:1612-1585245600-1585254600@bookamoso.co.za
SUMMARY:Stand Against Bland - a Blackbird Celebration
DESCRIPTION:
URL:https://bookamoso.co.za/event/stand-against-bland-a-blackbird-celebration/
LOCATION:Exclusive Books Mall of Africa\, Mall of Africa\, Magwa Crescent\, Waterval 5-Ir\, Midrand\, Johannesburg\, Gauteng\, South Africa
CATEGORIES:Book Launch,Bookish Event
ATTACH;FMTTYPE=image/jpeg:https://bookamoso.co.za/wp-content/uploads/2020/03/CVZW46171.jpg
ORGANIZER;CN="Exclusive Books":MAILTO:events@exclusivebooks.co.za
END:VEVENT
BEGIN:VEVENT
DTSTART;TZID=UTC:20200229T123000
DTEND;TZID=UTC:20200229T170000
DTSTAMP:20260423T230333
CREATED:20200217T164640Z
LAST-MODIFIED:20200217T164640Z
UID:1527-1582979400-1582995600@bookamoso.co.za
SUMMARY:Durban Bookclub Launch
DESCRIPTION:
URL:https://bookamoso.co.za/event/durban-bookclub-launch/
LOCATION:Durban Botanical Gardens\, 9A John Zikhali Rd\, Berea\, Durban\, KwaZulu-Natal\, 4041\, South Africa
CATEGORIES:Bookish Event
ATTACH;FMTTYPE=image/jpeg:https://bookamoso.co.za/wp-content/uploads/2020/02/IMG_16531.jpg
END:VEVENT
BEGIN:VEVENT
DTSTART;TZID=UTC:20200223T120000
DTEND;TZID=UTC:20200223T163000
DTSTAMP:20260423T230333
CREATED:20200217T071409Z
LAST-MODIFIED:20200217T071507Z
UID:1505-1582459200-1582475400@bookamoso.co.za
SUMMARY:Live Literature Market with the Cheeky Natives & Word N Sound
DESCRIPTION:The Cheeky Natives podcast and Word N Sound will host these Live Literature Markets at The Commune every last Sunday.
URL:https://bookamoso.co.za/event/live-literature-market-with-the-cheeky-natives/
LOCATION:The Commune\, 14 Reserve St\, Braamfontein\, Johannesburg\, Gauteng\, South Africa
CATEGORIES:Book Discussion,Bookish Event
ATTACH;FMTTYPE=image/jpeg:https://bookamoso.co.za/wp-content/uploads/2020/02/IMG_16491.jpg
ORGANIZER;CN="Cheeky Natives":MAILTO:letlhogonolo@cheekynatives.co.za
END:VEVENT
BEGIN:VEVENT
DTSTART;TZID=UTC:20200220T173000
DTEND;TZID=UTC:20200220T193000
DTSTAMP:20260423T230333
CREATED:20200210T201227Z
LAST-MODIFIED:20200210T201227Z
UID:1380-1582219800-1582227000@bookamoso.co.za
SUMMARY:2019/2020 Dinaane Debut Fiction Award Ceremony
DESCRIPTION:
URL:https://bookamoso.co.za/event/2019-2020-dinaane-debut-fiction-award-ceremony/
LOCATION:Exclusive Books Rosebank\, The Mall of Rosebank\, Johannesburg\, Gauteng\, South Africa
CATEGORIES:Bookish Event
ATTACH;FMTTYPE=image/jpeg:https://bookamoso.co.za/wp-content/uploads/2020/02/IMG_12041.jpg
ORGANIZER;CN="Exclusive Books":MAILTO:events@exclusivebooks.co.za
END:VEVENT
BEGIN:VEVENT
DTSTART;TZID=UTC:20200215T173000
DTEND;TZID=UTC:20200215T193000
DTSTAMP:20260423T230333
CREATED:20200210T204121Z
LAST-MODIFIED:20200210T204121Z
UID:1400-1581787800-1581795000@bookamoso.co.za
SUMMARY:Valentine's Evening - Bargain Books
DESCRIPTION:
URL:https://bookamoso.co.za/event/valentines-evening-bargain-books/
LOCATION:Bargain Books Mall of Africa\, Lone Creek Crescent and\, Magwa Cres\, Waterfall City\,\, Midrand\, Gauteng\, 1686\, South Africa
CATEGORIES:Bookish Event
ATTACH;FMTTYPE=image/jpeg:https://bookamoso.co.za/wp-content/uploads/2020/02/JYLX04021.jpg
END:VEVENT
BEGIN:VEVENT
DTSTART;TZID=UTC:20200214T180000
DTEND;TZID=UTC:20200214T220000
DTSTAMP:20260423T230333
CREATED:20200124T063356Z
LAST-MODIFIED:20200124T141945Z
UID:1268-1581703200-1581717600@bookamoso.co.za
SUMMARY:Valentines Day with The Cheeky Natives
DESCRIPTION:
URL:https://bookamoso.co.za/event/valentines-day-with-the-cheeky-natives/
LOCATION:Bargain Books Mall of Africa\, Lone Creek Crescent and\, Magwa Cres\, Waterfall City\,\, Midrand\, Gauteng\, 1686\, South Africa
CATEGORIES:Bookish Event
ATTACH;FMTTYPE=image/jpeg:https://bookamoso.co.za/wp-content/uploads/2020/01/WhatsApp-Image-2020-01-22-at-16.49.15-2.jpeg
ORGANIZER;CN="Cheeky Natives":MAILTO:letlhogonolo@cheekynatives.co.za
END:VEVENT
BEGIN:VEVENT
DTSTART;TZID=UTC:20200211T173000
DTEND;TZID=UTC:20200211T193000
DTSTAMP:20260423T230333
CREATED:20200210T213358Z
LAST-MODIFIED:20200210T213358Z
UID:1417-1581442200-1581449400@bookamoso.co.za
SUMMARY:2019 Sol Plaatje European Union Poetry Announcement
DESCRIPTION:
URL:https://bookamoso.co.za/event/2019-sol-plaatje-european-union-poetry-announcement/
LOCATION:6 Spin Street Restaurant\, Cape Town\, Western Cape\, South Africa
CATEGORIES:Bookish Event
ATTACH;FMTTYPE=image/jpeg:https://bookamoso.co.za/wp-content/uploads/2020/02/IMG_13451.jpg
END:VEVENT
BEGIN:VEVENT
DTSTART;TZID=UTC:20191205T180000
DTEND;TZID=UTC:20191208T210000
DTSTAMP:20260423T230333
CREATED:20191111T160040Z
LAST-MODIFIED:20191204T150813Z
UID:1141-1575568800-1575838800@bookamoso.co.za
SUMMARY:Abantu Book Festival
DESCRIPTION:The day events are held at the Eyethu Lifestyle Centre in Mofolo\, where entry is free\, and the night sessions at the Soweto Theatre in Jabulani and tickets cost R20.00 only. \n\n\n\n\nThe day events are held at the Eyethu Lifestyle Centre in Mofolo and the night sessions at the Soweto Theatre in Jabulani.\nAddress for Eyethu: 651 Tshabalala St\, Mofolo Central\nAddress for Soweto Theatre: Cnr. Bolani Rd and Bolani Link\, Jabulani\n\n\n\n\nStay tuned to the Abantu website\, Facebook\, Instagram and Twitter for updates. \n\n\n\n\n\n\n\n\n\n\n\n\n\n\n 
URL:https://bookamoso.co.za/event/abantu-book-festival/
LOCATION:Abantu Book Festival\, Soweto Theatre\, Johannesburg\, South Africa
CATEGORIES:Book Festival,Bookish Event
END:VEVENT
BEGIN:VEVENT
DTSTART;TZID=UTC:20191205T180000
DTEND;TZID=UTC:20191205T203000
DTSTAMP:20260423T230333
CREATED:20191203T092644Z
LAST-MODIFIED:20191203T095402Z
UID:1213-1575568800-1575577800@bookamoso.co.za
SUMMARY:Multi-Author Book Discussion - Exclusive Books Centurion
DESCRIPTION:Authors: Takalani M; Busisekile Khumalo; Simphiwe Molaba and Phindile Yende will be discussing their books at EB Centurion
URL:https://bookamoso.co.za/event/multi-author-book-discussion-exclusive-books-centurion/
LOCATION:Exclusive Books Centurion Mall\, Shop 118\, Heuwel Rd\, Centurion Central\, Centurion\, 0157\, Pretoria\, Gauteng\, South Africa
CATEGORIES:Book Discussion,Bookish Event
END:VEVENT
BEGIN:VEVENT
DTSTART;TZID=UTC:20191205T160000
DTEND;TZID=UTC:20191205T190000
DTSTAMP:20260423T230333
CREATED:20191205T091150Z
LAST-MODIFIED:20191205T091233Z
UID:1252-1575561600-1575572400@bookamoso.co.za
SUMMARY:Afrokulcha Cheese & Wine Evening
DESCRIPTION:
URL:https://bookamoso.co.za/event/afrokulcha-cheese-wine-evening/
LOCATION:Afrokulcha Showroom\, 99 Bowling Avenue\, Morningside Manor\, Johannesburg\, Gauteng\, South Africa
CATEGORIES:Bookish Event
END:VEVENT
BEGIN:VEVENT
DTSTART;TZID=UTC:20191203T190000
DTEND;TZID=UTC:20191203T200000
DTSTAMP:20260423T230333
CREATED:20191118T070622Z
LAST-MODIFIED:20191118T070622Z
UID:1158-1575399600-1575403200@bookamoso.co.za
SUMMARY:The Business Book Club - Betting on a Darkie by Mteto Nyati
DESCRIPTION:Jacques Velleman will be in discussion with Mteto Nyati. \nA pre-loved book for donation will be entrance fee for this discussion.
URL:https://bookamoso.co.za/event/the-business-book-club-betting-on-a-darkie-by-mteto-nyati/
LOCATION:The Business Book Club\, The Capital\, 20 West\, Sandton\, Johannesburg\, Gauteng\, South Africa
CATEGORIES:Book Discussion,Bookish Event
END:VEVENT
BEGIN:VEVENT
DTSTART;TZID=UTC:20191130T100000
DTEND;TZID=UTC:20191130T160000
DTSTAMP:20260423T230333
CREATED:20191119T120743Z
LAST-MODIFIED:20191119T120818Z
UID:1171-1575108000-1575129600@bookamoso.co.za
SUMMARY:African Summer Storytelling Festival - EthniKids
DESCRIPTION:Join Ethnikids and Nirox Foundation celebrating the last stretch of 2019 with the African Summer Storytelling Festival at Nirox Arts Sculpture Park on the 30th of November. It’s a fun\, family day out in the sun and they have amazing authors and plenty of new books on the line-up:\n…………..\n10h00: Khanya Masina – Khanya’s Magic Books of Rhymes\n11h00: Cobi Labuscagne – Explore! Awesome South African Artists\n12h00: Mosa Mkhize – Izilwane zase pulazini\n13h00: Namgamso ka NomaHlubi – uQwenga utyelela ezilalini\n14h00: Nansubunga Nadagyah Isdhal – Sleep well\, Siba and Saba / Sing to the Moon\n15h00: Mathabo Tlali & Sihle Nontshokweni – Wanda \nThe great team from Royal Vibrations Marimba Band will be providing entertainment.\n…………\nThere will be lovely\, healthy food on offer from Baba G Deli on the day or you can pre order\nPre-order special toastie for kids: R40 (R50 on the day)\nPre-order special picnic basket with mixed salads\, breads dips and rotisserie chicken pieces: R100 per person (R120 pp on the day) \nWe look forward to enjoying the day with you. \nTickets R180 online or R200.00 at the entrance on the day\nAll kids under 12 enter free! \nClick on the link here to book your spot.
URL:https://bookamoso.co.za/event/african-summer-storytelling-festival-ethnikids/
LOCATION:Nirox Sculpture Park\, R540 Kromdraai Rd\, Kromdraai\, Krugersdorp\, Johannesburg\, Gauteng\, 1739\, South Africa
CATEGORIES:Book Festival,Bookish Event
ORGANIZER;CN="Ethnikids":MAILTO:enquiries@ethnikids.co.za
END:VEVENT
BEGIN:VEVENT
DTSTART;TZID=UTC:20191123T110000
DTEND;TZID=UTC:20191123T130000
DTSTAMP:20260423T230333
CREATED:20191118T071803Z
LAST-MODIFIED:20191120T090731Z
UID:1164-1574506800-1574514000@bookamoso.co.za
SUMMARY:Book Launch - Conversation with my Elders by Kopano 'Kalvyn' More
DESCRIPTION:RSVP: funikhoprojects@gmail.com \nR200 for a Signed Copy and Refreshments
URL:https://bookamoso.co.za/event/book-launch-conversation-with-my-elders-by-kopano-kalvyn-more/
LOCATION:David Krut Bookstore\, 264 Fox Street\, Maboneng Precinct\, Johannesburg\, Gauteng\, South Africa
CATEGORIES:Book Launch,Bookish Event
ORGANIZER;CN="Pelmo Books":MAILTO:funikhoprojects@gmail.com
END:VEVENT
BEGIN:VEVENT
DTSTART;TZID=UTC:20191121T180000
DTEND;TZID=UTC:20191121T193000
DTSTAMP:20260423T230333
CREATED:20191029T152351Z
LAST-MODIFIED:20191029T152500Z
UID:1082-1574359200-1574364600@bookamoso.co.za
SUMMARY:Book Discussion: Boardroom Dancing by Nolitha Fakude
DESCRIPTION:Nolitha grew up as a shopkeeper’s daughter in the Eastern Cape\, and studied at University of Fort Hare. She entered the workplace as a graduate trainee at Woolworths. Nolitha is held in high regard within business circles and serves on numerous boards including the JSE\, Anglo American plc and Afrox Limited. \nBoardroom Dancing is a personal journey\, and it is also a lesson for South Africans committed to the transformation of boardrooms and the economy\, and for women looking for role models as they climb corporate ladders and become thought-leaders. \n 
URL:https://bookamoso.co.za/event/book-discussion-boardroom-dancing-by-nolitha-fakude/
LOCATION:Gauteng
CATEGORIES:Book Discussion,Bookish Event
END:VEVENT
BEGIN:VEVENT
DTSTART;TZID=UTC:20191114T180000
DTEND;TZID=UTC:20191114T193000
DTSTAMP:20260423T230333
CREATED:20191106T102631Z
LAST-MODIFIED:20191106T102631Z
UID:1115-1573754400-1573759800@bookamoso.co.za
SUMMARY:Book Launch: Betting on a Darkie
DESCRIPTION:
URL:https://bookamoso.co.za/event/book-launch-betting-on-a-darkie/
LOCATION:Exclusive Books V&A Waterfront\, 6160 Victoria Wharf\, 1 Breakwater Blvd\, Victoria & Alfred Waterfront\, Cape Town\, Western Cape
CATEGORIES:Book Launch,Bookish Event
END:VEVENT
BEGIN:VEVENT
DTSTART;TZID=UTC:20191114T150000
DTEND;TZID=UTC:20191114T190000
DTSTAMP:20260423T230333
CREATED:20191114T064706Z
LAST-MODIFIED:20191114T064706Z
UID:1152-1573743600-1573758000@bookamoso.co.za
SUMMARY:Afrokulcha Cheese & Wine Thursdays
DESCRIPTION:Join Afrokulcha as they host Mapalo Makhu\, author of You’re Not Broke\, You’re Pre-Rich to sign and have a discussion on the book.
URL:https://bookamoso.co.za/event/afrokulcha-cheese-wine-thursdays/
LOCATION:Afrokulcha Showroom\, 99 Bowling Avenue\, Morningside Manor\, Johannesburg\, Gauteng\, South Africa
CATEGORIES:Book Discussion,Bookish Event
END:VEVENT
BEGIN:VEVENT
DTSTART;TZID=UTC:20191112T180000
DTEND;TZID=UTC:20191112T193000
DTSTAMP:20260423T230333
CREATED:20191106T114317Z
LAST-MODIFIED:20191106T114851Z
UID:1123-1573581600-1573587000@bookamoso.co.za
SUMMARY:Book Launch: Will South Africa Be Okay?
DESCRIPTION:Jan-Jan will be in conversation with Gareth van Onselen.
URL:https://bookamoso.co.za/event/book-launch-will-south-africa-be-okay/
LOCATION:Exclusive Books Hyde Park\, Hyde Park Corner\, cnr Jan Smuts Ave & William Nicol Drive\, Johannesburg\, Gauteng\, South Africa
CATEGORIES:Book Launch,Bookish Event
ORGANIZER;CN="Exclusive Books Sandton City":MAILTO:events@exclusivebooks.co.za
END:VEVENT
BEGIN:VEVENT
DTSTART;TZID=UTC:20191109T110000
DTEND;TZID=UTC:20191109T120000
DTSTAMP:20260423T230333
CREATED:20191106T114716Z
LAST-MODIFIED:20191106T114716Z
UID:1130-1573297200-1573300800@bookamoso.co.za
SUMMARY:Book Launch: Explore! Awesome South African Artists
DESCRIPTION:
URL:https://bookamoso.co.za/event/book-launch-explore-awesome-south-african-artists/
LOCATION:The Atelier\, 44 Stanley Avenue\, Johannesburg
CATEGORIES:Book Launch,Bookish Event
ORGANIZER;CN="Jacana Media":MAILTO:thandeka@jacana.co.za
END:VEVENT
END:VCALENDAR