BEGIN:VCALENDAR
VERSION:2.0
PRODID:-//Bookamoso Book Club - ECPv6.13.2.1//NONSGML v1.0//EN
CALSCALE:GREGORIAN
METHOD:PUBLISH
X-WR-CALNAME:Bookamoso Book Club
X-ORIGINAL-URL:https://bookamoso.co.za
X-WR-CALDESC:Events for Bookamoso Book Club
REFRESH-INTERVAL;VALUE=DURATION:PT1H
X-Robots-Tag:noindex
X-PUBLISHED-TTL:PT1H
BEGIN:VTIMEZONE
TZID:UTC
BEGIN:STANDARD
TZOFFSETFROM:+0000
TZOFFSETTO:+0000
TZNAME:UTC
DTSTART:20190101T000000
END:STANDARD
END:VTIMEZONE
BEGIN:VEVENT
DTSTART;TZID=UTC:20200604T180000
DTEND;TZID=UTC:20200604T193000
DTSTAMP:20260423T233108
CREATED:20200217T062946Z
LAST-MODIFIED:20200217T062946Z
UID:1489-1591293600-1591299000@bookamoso.co.za
SUMMARY:An Evening with Elizabeth Gilbert - Johannesburg
DESCRIPTION:Author of Eat Pray Love will be discussing her latest book City of Girls. \nTickets are from R450.00pp
URL:https://bookamoso.co.za/event/an-evening-with-elizabeth-gilbert-johannesburg/
LOCATION:Teatro Montecasino\, Montecasino\, 1 Montecasino Blvd\, Johannesburg\, Gauteng\, 2055\, South Africa
CATEGORIES:Book Reading,Bookish Event
ATTACH;FMTTYPE=image/jpeg:https://bookamoso.co.za/wp-content/uploads/2020/02/IMG_14241.jpg
END:VEVENT
BEGIN:VEVENT
DTSTART;TZID=UTC:20200602T180000
DTEND;TZID=UTC:20200602T193000
DTSTAMP:20260423T233108
CREATED:20200217T062235Z
LAST-MODIFIED:20200217T063021Z
UID:1485-1591120800-1591126200@bookamoso.co.za
SUMMARY:An Evening with Elizabeth Gilbert - Cape Town
DESCRIPTION:Author of Eat Pray Love will be discussing her latest book City of Girls. \nTickets are from R450.00pp \n 
URL:https://bookamoso.co.za/event/an-evening-with-elizabeth-gilbert/
LOCATION:The Baxter Theatre\, University of Cape Town\, Main Rd\, Rondebosch\,\, Cape Town\, Western Cape\, 7700\, South Africa
CATEGORIES:Book Reading,Bookish Event
ATTACH;FMTTYPE=image/jpeg:https://bookamoso.co.za/wp-content/uploads/2020/02/IMG_14241.jpg
END:VEVENT
BEGIN:VEVENT
DTSTART;TZID=UTC:20200307T130000
DTEND;TZID=UTC:20200307T163000
DTSTAMP:20260423T233108
CREATED:20200212T113651Z
LAST-MODIFIED:20200225T151316Z
UID:1456-1583586000-1583598600@bookamoso.co.za
SUMMARY:Reading Date
DESCRIPTION:
URL:https://bookamoso.co.za/event/reading-date/
CATEGORIES:Book Reading
ATTACH;FMTTYPE=image/jpeg:https://bookamoso.co.za/wp-content/uploads/2020/02/KYUH57441.jpg
ORGANIZER;CN="Reading Dates with Refilwe":MAILTO:hello@refilwe.co.za
END:VEVENT
BEGIN:VEVENT
DTSTART;TZID=UTC:20200307T113000
DTEND;TZID=UTC:20200307T140000
DTSTAMP:20260423T233108
CREATED:20200217T065228Z
LAST-MODIFIED:20200217T065228Z
UID:1496-1583580600-1583589600@bookamoso.co.za
SUMMARY:Kucheza Land Open Culture
DESCRIPTION:
URL:https://bookamoso.co.za/event/kucheza-land-open-culture/
LOCATION:The Secret Trea Garden\, 16B Penguin Avenue\, Norscot Manor Recreation Centre\, Fourways\, Johannesburg\, Gauteng\, South Africa
CATEGORIES:Book Reading,Childrens Book Event
ATTACH;FMTTYPE=image/jpeg:https://bookamoso.co.za/wp-content/uploads/2020/02/IMG_14281.jpg
END:VEVENT
BEGIN:VEVENT
DTSTART;TZID=UTC:20200222T113000
DTEND;TZID=UTC:20200222T123000
DTSTAMP:20260423T233108
CREATED:20200217T072338Z
LAST-MODIFIED:20200217T072450Z
UID:1510-1582371000-1582374600@bookamoso.co.za
SUMMARY:Book Reading: Mizz President with Mapule Mohulatsi
DESCRIPTION:
URL:https://bookamoso.co.za/event/book-reading-mizz-president-with-mapule-mohulatsi/
CATEGORIES:Book Reading
ATTACH;FMTTYPE=image/jpeg:https://bookamoso.co.za/wp-content/uploads/2020/02/IMG_14551.jpg
END:VEVENT
BEGIN:VEVENT
DTSTART;TZID=UTC:20191116T110000
DTEND;TZID=UTC:20191116T120000
DTSTAMP:20260423T233108
CREATED:20191029T152833Z
LAST-MODIFIED:20191029T152833Z
UID:1087-1573902000-1573905600@bookamoso.co.za
SUMMARY:Book Reading: Little Mouse with Michelle Nkamakeng
DESCRIPTION:
URL:https://bookamoso.co.za/event/book-reading-little-mouse-with-michelle-nkamakeng/
CATEGORIES:Book Reading
END:VEVENT
END:VCALENDAR