BEGIN:VCALENDAR
VERSION:2.0
PRODID:-//Bookamoso Book Club - ECPv6.13.2.1//NONSGML v1.0//EN
CALSCALE:GREGORIAN
METHOD:PUBLISH
X-ORIGINAL-URL:https://bookamoso.co.za
X-WR-CALDESC:Events for Bookamoso Book Club
REFRESH-INTERVAL;VALUE=DURATION:PT1H
X-Robots-Tag:noindex
X-PUBLISHED-TTL:PT1H
BEGIN:VTIMEZONE
TZID:UTC
BEGIN:STANDARD
TZOFFSETFROM:+0000
TZOFFSETTO:+0000
TZNAME:UTC
DTSTART:20200101T000000
END:STANDARD
END:VTIMEZONE
BEGIN:VEVENT
DTSTART;TZID=UTC:20220128T180000
DTEND;TZID=UTC:20220128T193000
DTSTAMP:20260424T015554
CREATED:20220126T083032Z
LAST-MODIFIED:20220126T083032Z
UID:2373-1643392800-1643398200@bookamoso.co.za
SUMMARY:Book Launch: Prisoner to the Streets - Robyn Travis
DESCRIPTION:
URL:https://bookamoso.co.za/event/book-launch-prisoner-to-the-streets-robyn-travis/
LOCATION:Book Circle Capital\, 26 Boxes\, 75 4th Ave\, Melville\, Johannesburg\, Gauteng\, 2109\, South Africa
CATEGORIES:Book Launch
END:VEVENT
BEGIN:VEVENT
DTSTART;TZID=UTC:20220127T180000
DTEND;TZID=UTC:20220127T190000
DTSTAMP:20260424T015554
CREATED:20220120T110442Z
LAST-MODIFIED:20220120T110442Z
UID:2362-1643306400-1643310000@bookamoso.co.za
SUMMARY:Book Launch: Friends. Food. Flavour. by Michael Olivier
DESCRIPTION:Penguin Random House and @ExclusiveBooks \n Rosebank Mall would like to invite you to the launch of Michael Olivier’s Friends. Food. Flavour. with Roelien Immelman. Michael Olivier will be in conversation with David Batzofin on 27 January at 18:00.
URL:https://bookamoso.co.za/event/book-launch-friends-food-flavour-by-michael-olivier/
LOCATION:Exclusive Books Rosebank\, The Mall of Rosebank\, Johannesburg\, Gauteng\, South Africa
CATEGORIES:Book Launch
ATTACH;FMTTYPE=image/jpeg:https://bookamoso.co.za/wp-content/uploads/2022/01/FJdbe_2XMAEBhPx.jpeg
END:VEVENT
BEGIN:VEVENT
DTSTART;TZID=UTC:20220126T173000
DTEND;TZID=UTC:20220126T193000
DTSTAMP:20260424T015554
CREATED:20220116T103652Z
LAST-MODIFIED:20220116T103652Z
UID:2343-1643218200-1643225400@bookamoso.co.za
SUMMARY:Book Launch: Expensive Poverty: Why Aid Fails & How it can work
DESCRIPTION:The guest speaker for this even is H.E. President Hakainde Hichilema. \nRSVP: leila.jack@thebrenthurstfoundation.org
URL:https://bookamoso.co.za/event/book-launch-expensive-poverty-why-aid-fails-how-it-can-work/
LOCATION:The Johanesburg Holocaust and Genocide Centre\, 1 Duncombe Road\, Forest Town\, Johannesburg\, Gauteng\, South Africa
CATEGORIES:Book Launch
ATTACH;FMTTYPE=image/jpeg:https://bookamoso.co.za/wp-content/uploads/2022/01/Expensive_Poverty_210x148mm_1.jpeg
ORGANIZER;CN="The Brenthurst Foundation":MAILTO:leila.jack@thebrenthurstfoundation.org
END:VEVENT
BEGIN:VEVENT
DTSTART;TZID=UTC:20211116T183000
DTEND;TZID=UTC:20211116T193000
DTSTAMP:20260424T015554
CREATED:20211115T151729Z
LAST-MODIFIED:20211115T151729Z
UID:2304-1637087400-1637091000@bookamoso.co.za
SUMMARY:Book Launch:  South Africa and the World - Mills Soko
DESCRIPTION:Please note that entry is by RSVP only – due to limited numbers being allowed. Please book early.
URL:https://bookamoso.co.za/event/book-launch-south-africa-and-the-world-mills-soko/
LOCATION:Book Circle Capital\, 26 Boxes\, 75 4th Ave\, Melville\, Johannesburg\, Gauteng\, 2109\, South Africa
CATEGORIES:Book Discussion,Book Launch
ATTACH;FMTTYPE=image/jpeg:https://bookamoso.co.za/wp-content/uploads/2021/11/image_6483441-1.jpg
END:VEVENT
BEGIN:VEVENT
DTSTART;TZID=UTC:20211106T110000
DTEND;TZID=UTC:20211106T120000
DTSTAMP:20260424T015554
CREATED:20211025T120647Z
LAST-MODIFIED:20211025T120647Z
UID:2276-1636196400-1636200000@bookamoso.co.za
SUMMARY:Book Launch: Hautings edited by Niq Mhlongo
DESCRIPTION:
URL:https://bookamoso.co.za/event/book-launch-hautings-edited-by-niq-mhlongo/
LOCATION:Bridge Books\, 98 Commissioner Street\, Marshalltown\, Johannesburg\, Gauteng\, 2000\, South Africa
CATEGORIES:Book Discussion,Book Launch
ATTACH;FMTTYPE=image/jpeg:https://bookamoso.co.za/wp-content/uploads/2021/10/FCcq_PqWQAA0Izo.jpeg
END:VEVENT
BEGIN:VEVENT
DTSTART;TZID=UTC:20211102T173000
DTEND;TZID=UTC:20211102T190000
DTSTAMP:20260424T015554
CREATED:20211025T134336Z
LAST-MODIFIED:20211025T134336Z
UID:2290-1635874200-1635879600@bookamoso.co.za
SUMMARY:Book Launch: Unbecoming - Joanne Fedler
DESCRIPTION:Joanne will be in discussion with Gail Schimmel.
URL:https://bookamoso.co.za/event/book-launch-unbecoming-joanne-fedler/
LOCATION:Exclusive Books Rosebank\, The Mall of Rosebank\, Johannesburg\, Gauteng\, South Africa
CATEGORIES:Book Launch
ATTACH;FMTTYPE=image/jpeg:https://bookamoso.co.za/wp-content/uploads/2021/10/FBlKgA6XIAA7fh0.jpeg
END:VEVENT
BEGIN:VEVENT
DTSTART;TZID=UTC:20211028T180000
DTEND;TZID=UTC:20211028T190000
DTSTAMP:20260424T015554
CREATED:20211027T093355Z
LAST-MODIFIED:20211027T093355Z
UID:2294-1635444000-1635447600@bookamoso.co.za
SUMMARY:Book Launch: Hosting with The Lazy Makoti - Mogau Seshoene
DESCRIPTION:Mogau will be in conversation with Thabo Mokwele. Book signing will follow shortly after.
URL:https://bookamoso.co.za/event/book-launch-hosting-with-the-lazy-makoti-mogau-seshoene/
LOCATION:Exclusive Books Rosebank\, The Mall of Rosebank\, Johannesburg\, Gauteng\, South Africa
CATEGORIES:Book Launch
ATTACH;FMTTYPE=image/jpeg:https://bookamoso.co.za/wp-content/uploads/2021/10/Hosting-with-the-Lazy-Makoti-Instagram-1080x1080-1028.jpeg
END:VEVENT
BEGIN:VEVENT
DTSTART;TZID=UTC:20210928T180000
DTEND;TZID=UTC:20210928T190000
DTSTAMP:20260424T015554
CREATED:20210918T131434Z
LAST-MODIFIED:20210918T131434Z
UID:2252-1632852000-1632855600@bookamoso.co.za
SUMMARY:Virtual Launch: Being Dianne - Qarnita Loxton
DESCRIPTION:Qarnita will be in discussion with Pamela Power. Register here for this Zoom discussion.
URL:https://bookamoso.co.za/event/virtual-launch-being-dianne-qarnita-loxton/
LOCATION:Gauteng
CATEGORIES:Book Launch
ATTACH;FMTTYPE=image/png:https://bookamoso.co.za/wp-content/uploads/2021/09/242176734_10159370239445279_540569350031591781_n.png
END:VEVENT
BEGIN:VEVENT
DTSTART;TZID=UTC:20210916T180000
DTEND;TZID=UTC:20210916T193000
DTSTAMP:20260424T015554
CREATED:20210916T130026Z
LAST-MODIFIED:20210916T130026Z
UID:2241-1631815200-1631820600@bookamoso.co.za
SUMMARY:An Evening with Lynn & Wanda
DESCRIPTION:Booking is essential for this event.
URL:https://bookamoso.co.za/event/an-evening-with-lynn-wanda/
LOCATION:Exclusive Book Melrose Arch\, Shop H62EF\, 60 Melrose Blvd\, Melrose\,\, Johannesburg\,\, Gauteng\, 2196\, South Africa
CATEGORIES:Book Discussion,Book Launch
ATTACH;FMTTYPE=image/jpeg:https://bookamoso.co.za/wp-content/uploads/2021/09/241806423_4954567441238299_8708843043220501219_n.jpeg
ORGANIZER;CN="Modjaji Books":MAILTO:info@modjajibooks.co.za
END:VEVENT
BEGIN:VEVENT
DTSTART;TZID=UTC:20210713T173000
DTEND;TZID=UTC:20210713T183000
DTSTAMP:20260424T015554
CREATED:20210701T174249Z
LAST-MODIFIED:20210702T181150Z
UID:2175-1626197400-1626201000@bookamoso.co.za
SUMMARY:Book Launch: The Grief Handbook - A Guide Through the Worst Days of Your Life by Bridget McNulty
DESCRIPTION:
URL:https://bookamoso.co.za/event/book-launch-the-grief-handbook-a-guide-through-the-worst-days-of-your-life-by-bridget-mcnulty/
LOCATION:Online
CATEGORIES:Book Launch
ATTACH;FMTTYPE=image/jpeg:https://bookamoso.co.za/wp-content/uploads/2021/07/205073427_810099322995896_5035702106068839414_n.jpeg
END:VEVENT
BEGIN:VEVENT
DTSTART;TZID=UTC:20210616T160000
DTEND;TZID=UTC:20210616T170000
DTSTAMP:20260424T015554
CREATED:20210607T102936Z
LAST-MODIFIED:20210607T102936Z
UID:2099-1623859200-1623862800@bookamoso.co.za
SUMMARY:Book Launch: The Black Pimpernel by Zukiswa Wanner
DESCRIPTION:
URL:https://bookamoso.co.za/event/book-launch-the-black-pimpernel-by-zukiswa-wanner/
LOCATION:Exclusive Books Rosebank\, The Mall of Rosebank\, Johannesburg\, Gauteng\, South Africa
CATEGORIES:Book Launch
ATTACH;FMTTYPE=image/jpeg:https://bookamoso.co.za/wp-content/uploads/2021/06/E3BqfIIXEAA3yFl.jpeg
ORGANIZER;CN="Exclusive Books":MAILTO:events@exclusivebooks.co.za
END:VEVENT
BEGIN:VEVENT
DTSTART;TZID=UTC:20210610T180000
DTEND;TZID=UTC:20210610T190000
DTSTAMP:20260424T015554
CREATED:20210607T173851Z
LAST-MODIFIED:20210607T173851Z
UID:2102-1623348000-1623351600@bookamoso.co.za
SUMMARY:Virtual Book Launch: When the Village Sleeps by Sindiwe Magona
DESCRIPTION:Dr. Sindiwe Magona will be in conversation with Garth Japhet.
URL:https://bookamoso.co.za/event/virtual-book-launch-when-the-village-sleeps-by-sindiwe-magona/
LOCATION:Online
CATEGORIES:Book Launch
ATTACH;FMTTYPE=image/jpeg:https://bookamoso.co.za/wp-content/uploads/2021/06/E3Nt5H5XwAM9awd.jpeg
END:VEVENT
BEGIN:VEVENT
DTSTART;TZID=UTC:20210608T180000
DTEND;TZID=UTC:20210608T190000
DTSTAMP:20260424T015554
CREATED:20210608T102401Z
LAST-MODIFIED:20210608T102401Z
UID:2108-1623175200-1623178800@bookamoso.co.za
SUMMARY:Virtual Book Launch: Surfacing - On Being Black and Feminist in South Africa
DESCRIPTION:
URL:https://bookamoso.co.za/event/virtual-book-launch-surfacing-on-being-black-and-feminist-in-south-africa/
LOCATION:Online
CATEGORIES:Book Launch
ATTACH;FMTTYPE=image/jpeg:https://bookamoso.co.za/wp-content/uploads/2021/06/E3C_huPXMAAB3HJ.jpeg
ORGANIZER;CN="Exclusive Books":MAILTO:events@exclusivebooks.co.za
END:VEVENT
BEGIN:VEVENT
DTSTART;TZID=UTC:20210527T180000
DTEND;TZID=UTC:20210527T193000
DTSTAMP:20260424T015554
CREATED:20210520T154141Z
LAST-MODIFIED:20210520T154141Z
UID:2063-1622138400-1622143800@bookamoso.co.za
SUMMARY:Book Launch: For My Country - Themba Maseko
DESCRIPTION:Themba Maseko will be in conversation with Rams Mabote – with special guest Reverend Frank Chikane.
URL:https://bookamoso.co.za/event/book-launch-for-my-country-themba-maseko/
LOCATION:Exclusive Books Rosebank\, The Mall of Rosebank\, Johannesburg\, Gauteng\, South Africa
CATEGORIES:Book Launch
ATTACH;FMTTYPE=image/jpeg:https://bookamoso.co.za/wp-content/uploads/2021/05/187289057_10158228427012993_8505675507111306202_n.jpeg
ORGANIZER;CN="Exclusive Books":MAILTO:events@exclusivebooks.co.za
END:VEVENT
BEGIN:VEVENT
DTSTART;TZID=UTC:20210526T180000
DTEND;TZID=UTC:20210526T193000
DTSTAMP:20260424T015554
CREATED:20210519T115726Z
LAST-MODIFIED:20210519T115726Z
UID:2049-1622052000-1622057400@bookamoso.co.za
SUMMARY:Book Launch: Invisible Strings by Naledi Mashishi
DESCRIPTION:
URL:https://bookamoso.co.za/event/book-launch-invisible-strings-by-naledi-mashishi/
LOCATION:Melrose Arch Gallery\, 10 The High St\, Melrose\,\, Johannesburg\,\, Gauteng\, 2196\, South Africa
CATEGORIES:Book Launch
ATTACH;FMTTYPE=image/jpeg:https://bookamoso.co.za/wp-content/uploads/2021/05/WhatsApp-Image-2021-05-11-at-13.58.36.jpeg
ORGANIZER;CN="Exclusive Books":MAILTO:events@exclusivebooks.co.za
END:VEVENT
BEGIN:VEVENT
DTSTART;TZID=UTC:20210524T180000
DTEND;TZID=UTC:20210524T190000
DTSTAMP:20260424T015554
CREATED:20210512T152729Z
LAST-MODIFIED:20210512T152729Z
UID:2001-1621879200-1621882800@bookamoso.co.za
SUMMARY:Book Launch: A Coat of Many Colours
DESCRIPTION:Fred Khumalo will be in conversation with Lorraine Sithole.
URL:https://bookamoso.co.za/event/book-launch-a-coat-of-many-colours/
LOCATION:Zoom
CATEGORIES:Book Discussion,Book Launch
ATTACH;FMTTYPE=image/jpeg:https://bookamoso.co.za/wp-content/uploads/2021/05/186173518_2173382562797990_4976016882189492516_n.jpeg
END:VEVENT
BEGIN:VEVENT
DTSTART;TZID=UTC:20210518T180000
DTEND;TZID=UTC:20210518T190000
DTSTAMP:20260424T015554
CREATED:20210518T111515Z
LAST-MODIFIED:20210518T111515Z
UID:2032-1621360800-1621364400@bookamoso.co.za
SUMMARY:Book Launch: Native Boy - Confessions of a Maplazini in the City
DESCRIPTION:This launch will take place live on the Cheeky Natives’ Facebook\, Youtube & Twitter.
URL:https://bookamoso.co.za/event/book-launch-native-boy-confessions-of-a-maplazini-in-the-city/
LOCATION:Online
CATEGORIES:Book Launch
ATTACH;FMTTYPE=image/jpeg:https://bookamoso.co.za/wp-content/uploads/2021/05/186528760_1226336287823759_6270217925583193828_n.jpeg
END:VEVENT
BEGIN:VEVENT
DTSTART;TZID=UTC:20210512T180000
DTEND;TZID=UTC:20210512T190000
DTSTAMP:20260424T015555
CREATED:20210506T101759Z
LAST-MODIFIED:20210506T101759Z
UID:1964-1620842400-1620846000@bookamoso.co.za
SUMMARY:Book Launch: His Only Wife - Peace Adzo Medie
DESCRIPTION:This will be streaming Live on Cheeky Natives – Youtube\, Twitter and Facebook.
URL:https://bookamoso.co.za/event/book-launch-his-only-wife-peace-adzo-medie/
LOCATION:Online
CATEGORIES:Book Discussion,Book Launch
ATTACH;FMTTYPE=image/jpeg:https://bookamoso.co.za/wp-content/uploads/2021/05/0ea282b2-a420-40b3-962a-5db57d5d0146.jpg
END:VEVENT
BEGIN:VEVENT
DTSTART;TZID=UTC:20210510T180000
DTEND;TZID=UTC:20210510T190000
DTSTAMP:20260424T015555
CREATED:20210506T044116Z
LAST-MODIFIED:20210506T044116Z
UID:1955-1620669600-1620673200@bookamoso.co.za
SUMMARY:Book Launch: Nation on the Couch - Wahbie Long
DESCRIPTION:Register here to join: http://ow.ly/b2MQ50EEo
URL:https://bookamoso.co.za/event/book-launch-nation-on-the-couch-wahbie-long/
LOCATION:Zoom
CATEGORIES:Book Discussion,Book Launch
ATTACH;FMTTYPE=image/jpeg:https://bookamoso.co.za/wp-content/uploads/2021/05/Nation-on-the-Couch.jpeg
END:VEVENT
BEGIN:VEVENT
DTSTART;TZID=UTC:20210506T183000
DTEND;TZID=UTC:20210506T193000
DTSTAMP:20260424T015555
CREATED:20210506T043558Z
LAST-MODIFIED:20210506T043558Z
UID:1949-1620325800-1620329400@bookamoso.co.za
SUMMARY:Book Launch: Dinner at Matloha's - Liziwe Matloha
DESCRIPTION:
URL:https://bookamoso.co.za/event/book-launch-dinner-at-matlohas-liziwe-matloha/
LOCATION:Exclusive Books Rosebank\, The Mall of Rosebank\, Johannesburg\, Gauteng\, South Africa
CATEGORIES:Book Discussion,Book Launch
ATTACH;FMTTYPE=image/jpeg:https://bookamoso.co.za/wp-content/uploads/2021/05/E0oEJFZWUA4g-wv.jpeg
ORGANIZER;CN="Exclusive Books":MAILTO:events@exclusivebooks.co.za
END:VEVENT
BEGIN:VEVENT
DTSTART;TZID=UTC:20210506T180000
DTEND;TZID=UTC:20210506T193000
DTSTAMP:20260424T015555
CREATED:20210504T111931Z
LAST-MODIFIED:20210504T111931Z
UID:1931-1620324000-1620329400@bookamoso.co.za
SUMMARY:Book Launch: How I Made My Dream Life With Only R350 by Kabelo Ncholo
DESCRIPTION:RSVP now learn about Kabelo’s amazing story as he discusses with Tim Modise. -Note: all social distancing protocols will be strictly adhered to at all times.
URL:https://bookamoso.co.za/event/book-launch-how-i-made-my-dream-life-with-only-r350-by-kabelo-ncholo/
LOCATION:Melrose Arch Clicks Court\, 60 Melrose Blvd\, Melrose North\,\, Johannesburg\, Gauteng\, 2076
CATEGORIES:Book Launch
ATTACH;FMTTYPE=image/jpeg:https://bookamoso.co.za/wp-content/uploads/2021/05/Kabelo-Ncholo.jpeg
ORGANIZER;CN="Exclusive Books":MAILTO:events@exclusivebooks.co.za
END:VEVENT
BEGIN:VEVENT
DTSTART;TZID=UTC:20210506T180000
DTEND;TZID=UTC:20210506T190000
DTSTAMP:20260424T015555
CREATED:20210428T111855Z
LAST-MODIFIED:20210428T111855Z
UID:1912-1620324000-1620327600@bookamoso.co.za
SUMMARY:Book Launch: The Black Girl's Guide to Corporate South Africa
DESCRIPTION:This is an online webinar. Please see poster for details on registering for the launch. \nGet your copy here: https://www.exclusivebooks.co.za/product/9780624090946 \nThis timely memoir-cum-guide includes the insights of black women at various stages of their career as they navigate the pitfalls of the corporate world. \nA performance review of the working world introduced to the young women reveals issues such as racism\, sexism\, ethnic chauvinism\, ageism\, and sexual harassment that many encounter with naivety. When technical expertise and hard work are not the issue\, how do black women make the most of their efforts and support each other to success?
URL:https://bookamoso.co.za/event/book-launch-the-black-girls-guide-to-corporate-south-africa-2/
LOCATION:Gauteng
CATEGORIES:Book Launch,Bookish Event
ATTACH;FMTTYPE=image/jpeg:https://bookamoso.co.za/wp-content/uploads/2021/04/Black-girls-guide_invite.jpg
END:VEVENT
BEGIN:VEVENT
DTSTART;TZID=UTC:20210506T180000
DTEND;TZID=UTC:20210506T190000
DTSTAMP:20260424T015555
CREATED:20210422T203046Z
LAST-MODIFIED:20210422T203046Z
UID:1898-1620324000-1620327600@bookamoso.co.za
SUMMARY:Book Launch: The Black Girl's Guide to Corporate South Africa
DESCRIPTION:
URL:https://bookamoso.co.za/event/book-launch-the-black-girls-guide-to-corporate-south-africa/
LOCATION:Gauteng
CATEGORIES:Book Discussion,Book Launch
ATTACH;FMTTYPE=image/jpeg:https://bookamoso.co.za/wp-content/uploads/2021/04/Black-girls-guide_invite.jpg
END:VEVENT
BEGIN:VEVENT
DTSTART;TZID=UTC:20210506T173000
DTEND;TZID=UTC:20210506T190000
DTSTAMP:20260424T015555
CREATED:20210506T043838Z
LAST-MODIFIED:20210506T043838Z
UID:1952-1620322200-1620327600@bookamoso.co.za
SUMMARY:Book Launch: Cosmonauts Do It In Heaven - Keith Gottschalk
DESCRIPTION:
URL:https://bookamoso.co.za/event/book-launch-cosmonauts-do-it-in-heaven-keith-gottschalk/
LOCATION:Exclusive Books Cavendish Square\, 12 Cavendish St. Claremont\, Cape Town\, Western Cape\, 7708\, South Africa
CATEGORIES:Book Launch,Bookish Event
ATTACH;FMTTYPE=image/jpeg:https://bookamoso.co.za/wp-content/uploads/2021/05/E0na6XpXIAYLPcr.jpeg
ORGANIZER;CN="Exclusive Books":MAILTO:events@exclusivebooks.co.za
END:VEVENT
BEGIN:VEVENT
DTSTART;TZID=UTC:20210501T130000
DTEND;TZID=UTC:20210501T140000
DTSTAMP:20260424T015555
CREATED:20210429T090828Z
LAST-MODIFIED:20210429T090828Z
UID:1917-1619874000-1619877600@bookamoso.co.za
SUMMARY:Book Launch: Yellow Means Stay
DESCRIPTION:Yellow Means Stay – An Anthology of Love Stories from Africa. \nJoin Bridge Books as they launch the book with 3 of the contributors.
URL:https://bookamoso.co.za/event/book-launch-yellow-means-stay/
LOCATION:Bridge Books\, 98 Commissioner Street\, Marshalltown\, Johannesburg\, Gauteng\, 2000\, South Africa
CATEGORIES:Book Discussion,Book Launch
ATTACH;FMTTYPE=image/jpeg:https://bookamoso.co.za/wp-content/uploads/2021/04/5614461E-928C-4FE0-B06E-BCF791B0E904.jpg
END:VEVENT
BEGIN:VEVENT
DTSTART;TZID=UTC:20210316T190000
DTEND;TZID=UTC:20210316T203000
DTSTAMP:20260424T015555
CREATED:20210315T170156Z
LAST-MODIFIED:20210315T170156Z
UID:1870-1615921200-1615926600@bookamoso.co.za
SUMMARY:Dinotshi Book Launch
DESCRIPTION:Fat Cats Book Club with Xarra Books will be launching this Erotica in Setswana book. \nDetails via Fat Cats Book Club Facebook Page as this will be on ZOOM. \n 
URL:https://bookamoso.co.za/event/dinotshi-book-launch/
LOCATION:Gauteng
CATEGORIES:Book Launch
ATTACH;FMTTYPE=image/jpeg:https://bookamoso.co.za/wp-content/uploads/2021/03/Fat-Cats.jpg
END:VEVENT
BEGIN:VEVENT
DTSTART;TZID=UTC:20200421T180000
DTEND;TZID=UTC:20200421T193000
DTSTAMP:20260424T015555
CREATED:20200314T062730Z
LAST-MODIFIED:20200314T063059Z
UID:1603-1587492000-1587497400@bookamoso.co.za
SUMMARY:Book Launch: Living While Feminist
DESCRIPTION:
URL:https://bookamoso.co.za/event/book-launch-living-while-feminist/
LOCATION:Exclusive Books Rosebank\, The Mall of Rosebank\, Johannesburg\, Gauteng\, South Africa
CATEGORIES:Book Launch
ATTACH;FMTTYPE=image/jpeg:https://bookamoso.co.za/wp-content/uploads/2020/03/IMG_25311.jpg
ORGANIZER;CN="Exclusive Books":MAILTO:events@exclusivebooks.co.za
END:VEVENT
BEGIN:VEVENT
DTSTART;TZID=UTC:20200415T180000
DTEND;TZID=UTC:20200415T193000
DTSTAMP:20260424T015555
CREATED:20200314T062956Z
LAST-MODIFIED:20200314T062956Z
UID:1605-1586973600-1586979000@bookamoso.co.za
SUMMARY:Book Launch: Living While Feminist - Cape Town
DESCRIPTION:
URL:https://bookamoso.co.za/event/book-launch-living-while-feminist-cape-town/
LOCATION:Book Lounge\, 71 Roeland Street\, Cape Town\, Western Cape\, South Africa
CATEGORIES:Book Launch
ATTACH;FMTTYPE=image/jpeg:https://bookamoso.co.za/wp-content/uploads/2020/03/IMG_25301.jpg
ORGANIZER;CN="The Book Lounge":MAILTO:booklounge@gmail.com
END:VEVENT
BEGIN:VEVENT
DTSTART;TZID=UTC:20200326T180000
DTEND;TZID=UTC:20200326T203000
DTSTAMP:20260424T015555
CREATED:20200314T064328Z
LAST-MODIFIED:20200314T064328Z
UID:1612-1585245600-1585254600@bookamoso.co.za
SUMMARY:Stand Against Bland - a Blackbird Celebration
DESCRIPTION:
URL:https://bookamoso.co.za/event/stand-against-bland-a-blackbird-celebration/
LOCATION:Exclusive Books Mall of Africa\, Mall of Africa\, Magwa Crescent\, Waterval 5-Ir\, Midrand\, Johannesburg\, Gauteng\, South Africa
CATEGORIES:Book Launch,Bookish Event
ATTACH;FMTTYPE=image/jpeg:https://bookamoso.co.za/wp-content/uploads/2020/03/CVZW46171.jpg
ORGANIZER;CN="Exclusive Books":MAILTO:events@exclusivebooks.co.za
END:VEVENT
BEGIN:VEVENT
DTSTART;TZID=UTC:20200317T180000
DTEND;TZID=UTC:20200317T193000
DTSTAMP:20260424T015555
CREATED:20200314T063347Z
LAST-MODIFIED:20200314T063347Z
UID:1607-1584468000-1584473400@bookamoso.co.za
SUMMARY:Book Launch: The Beekeeper of Aleppo by Christy Lefteri
DESCRIPTION:The conversation will be with Contributing Editor of Johannesburg Review of Books\, Efemia Chela.
URL:https://bookamoso.co.za/event/book-launch-the-beekeeper-of-aleppo-by-christy-lefteri/
LOCATION:Love Books\, 53 Rustenburg Road\, Johannesburg\, Gauteng\, 2092\, South Africa
CATEGORIES:Book Launch
ATTACH;FMTTYPE=image/jpeg:https://bookamoso.co.za/wp-content/uploads/2020/03/IMG_21371.jpg
ORGANIZER;CN="Love Books":MAILTO:kate@lovebooks.co.za
END:VEVENT
END:VCALENDAR