BEGIN:VCALENDAR
VERSION:2.0
PRODID:-//Bookamoso Book Club - ECPv6.13.2.1//NONSGML v1.0//EN
CALSCALE:GREGORIAN
METHOD:PUBLISH
X-ORIGINAL-URL:https://bookamoso.co.za
X-WR-CALDESC:Events for Bookamoso Book Club
REFRESH-INTERVAL;VALUE=DURATION:PT1H
X-Robots-Tag:noindex
X-PUBLISHED-TTL:PT1H
BEGIN:VTIMEZONE
TZID:UTC
BEGIN:STANDARD
TZOFFSETFROM:+0000
TZOFFSETTO:+0000
TZNAME:UTC
DTSTART:20180101T000000
END:STANDARD
END:VTIMEZONE
BEGIN:VEVENT
DTSTART;TZID=UTC:20180412T173000
DTEND;TZID=UTC:20180412T193000
DTSTAMP:20260424T091813
CREATED:20180317T025629Z
LAST-MODIFIED:20180317T025629Z
UID:765-1523554200-1523561400@bookamoso.co.za
SUMMARY:Book Launch: Soweto\, Under the Apricot Tree by Niq Mhlongo
DESCRIPTION:Mervyn Sloman will be in conversation with Niq.
URL:https://bookamoso.co.za/event/book-launch-soweto-under-the-apricot-tree-by-niq-mhlongo-3/
LOCATION:Book Lounge\, 71 Roeland Street\, Cape Town\, Western Cape\, South Africa
CATEGORIES:Book Launch
END:VEVENT
BEGIN:VEVENT
DTSTART;TZID=UTC:20180410T180000
DTEND;TZID=UTC:20180410T203000
DTSTAMP:20260424T091813
CREATED:20180317T022049Z
LAST-MODIFIED:20180317T022049Z
UID:750-1523383200-1523392200@bookamoso.co.za
SUMMARY:Book Launch: Soweto\, Under the Apricot Tree by Niq Mhlongo
DESCRIPTION:Vincent Moloi will be in conversation with Niq.
URL:https://bookamoso.co.za/event/book-launch-soweto-under-the-apricot-tree-by-niq-mhlongo/
LOCATION:The Market Photo Workshop Auditorium\, 138 Lillian Ngoyi Street (old Breet Str)\, Newtown\, Johannesburg\, Gauteng\, South Africa
CATEGORIES:Book Launch
ORGANIZER;CN="Exclusive Books":MAILTO:events@exclusivebooks.co.za
END:VEVENT
END:VCALENDAR