BEGIN:VCALENDAR
VERSION:2.0
PRODID:-//Bookamoso Book Club - ECPv6.13.2.1//NONSGML v1.0//EN
CALSCALE:GREGORIAN
METHOD:PUBLISH
X-WR-CALNAME:Bookamoso Book Club
X-ORIGINAL-URL:https://bookamoso.co.za
X-WR-CALDESC:Events for Bookamoso Book Club
REFRESH-INTERVAL;VALUE=DURATION:PT1H
X-Robots-Tag:noindex
X-PUBLISHED-TTL:PT1H
BEGIN:VTIMEZONE
TZID:UTC
BEGIN:STANDARD
TZOFFSETFROM:+0000
TZOFFSETTO:+0000
TZNAME:UTC
DTSTART:20200101T000000
END:STANDARD
END:VTIMEZONE
BEGIN:VEVENT
DTSTART;TZID=UTC:20220521T080000
DTEND;TZID=UTC:20220521T170000
DTSTAMP:20260423T222259
CREATED:20220512T071755Z
LAST-MODIFIED:20220512T071755Z
UID:2543-1653120000-1653152400@bookamoso.co.za
SUMMARY:Kingsmead Book Fair
DESCRIPTION:
URL:https://bookamoso.co.za/event/kingsmead-book-fair-2/
LOCATION:Kingsmead College\, 132 Oxford Road (Entrance in Tottenham Avenue)\, Johannesburg\, Gauteng\, South Africa
CATEGORIES:Book Fest
ATTACH;FMTTYPE=image/jpeg:https://bookamoso.co.za/wp-content/uploads/2022/05/278663638_1478377385910792_2313778156592168807_n.jpeg
END:VEVENT
BEGIN:VEVENT
DTSTART;TZID=UTC:20220513T100000
DTEND;TZID=UTC:20220515T140000
DTSTAMP:20260423T222259
CREATED:20220512T080703Z
LAST-MODIFIED:20220512T080703Z
UID:2550-1652436000-1652623200@bookamoso.co.za
SUMMARY:Franschoek Literary Festival
DESCRIPTION:Full Programme is on the flf.co.za website with venues and times. \n\n\nINFORMATION & QUERIES\nFor general queries please contact hello@flf.co.za. For any queries about membership\, booking or payment kindly contact: \nWebtickets\n\nTEL 0861999710 \n\nEMAIL info@webtickets.co.za \n\nWHATSAPP +27721371226 \n\nSUPPORT HOURS 8:30-16:30 – 7 days a week
URL:https://bookamoso.co.za/event/franschoek-literary-festival/
LOCATION:Franschoek\, Cape Town\, South Africa
CATEGORIES:Book Fest
ATTACH;FMTTYPE=image/jpeg:https://bookamoso.co.za/wp-content/uploads/2022/05/84772075_2926031594084064_8792354369140948992_n.jpeg
END:VEVENT
BEGIN:VEVENT
DTSTART;TZID=UTC:20220512T090000
DTEND;TZID=UTC:20220512T130000
DTSTAMP:20260423T222259
CREATED:20220512T075640Z
LAST-MODIFIED:20220512T075640Z
UID:2546-1652346000-1652360400@bookamoso.co.za
SUMMARY:Power of Authors
DESCRIPTION:This is a virtual event. \nhttps://www.anfasa.org.za/power-of-authors-2022/
URL:https://bookamoso.co.za/event/power-of-authors/
CATEGORIES:Book Discussion,Book Fest
ATTACH;FMTTYPE=image/jpeg:https://bookamoso.co.za/wp-content/uploads/2022/05/FR7slhnWUAA0kvr.jpeg
END:VEVENT
BEGIN:VEVENT
DTSTART;TZID=UTC:20220228T100000
DTEND;TZID=UTC:20220228T170000
DTSTAMP:20260423T222259
CREATED:20220221T134529Z
LAST-MODIFIED:20220221T134529Z
UID:2388-1646042400-1646067600@bookamoso.co.za
SUMMARY:Book Lovers Market Language Festival
DESCRIPTION:Address: 2525 D. P. Kgotleng Street\, \nMontshioa\, Mahikeng
URL:https://bookamoso.co.za/event/book-lovers-market-language-festival/
CATEGORIES:Book Fest
END:VEVENT
BEGIN:VEVENT
DTSTART;TZID=UTC:20220205T150000
DTEND;TZID=UTC:20220205T210000
DTSTAMP:20260423T222259
CREATED:20220201T041232Z
LAST-MODIFIED:20220201T041232Z
UID:2383-1644073200-1644094800@bookamoso.co.za
SUMMARY:Live Literature Around the World
DESCRIPTION:Programme to the Live Literature Around the World will take place from the 05 February 2022 here.
URL:https://bookamoso.co.za/event/live-literature-around-the-world/
CATEGORIES:Book Fest
ATTACH;FMTTYPE=image/jpeg:https://bookamoso.co.za/wp-content/uploads/2022/02/Literature-Live.jpeg
END:VEVENT
BEGIN:VEVENT
DTSTART;TZID=UTC:20210529T090000
DTEND;TZID=UTC:20210529T150000
DTSTAMP:20260423T222259
CREATED:20210512T151631Z
LAST-MODIFIED:20210512T151631Z
UID:1999-1622278800-1622300400@bookamoso.co.za
SUMMARY:Kingsmead Book Fair
DESCRIPTION:
URL:https://bookamoso.co.za/event/kingsmead-book-fair/
LOCATION:Online
CATEGORIES:Book Fest
ATTACH;FMTTYPE=image/jpeg:https://bookamoso.co.za/wp-content/uploads/2021/05/Kingsmead-Book-Fair.jpeg
END:VEVENT
BEGIN:VEVENT
DTSTART;TZID=UTC:20210501T090000
DTEND;TZID=UTC:20210501T150000
DTSTAMP:20260423T222259
CREATED:20210429T092736Z
LAST-MODIFIED:20210429T092736Z
UID:1921-1619859600-1619881200@bookamoso.co.za
SUMMARY:Rand Club Book Day
DESCRIPTION:Join Rand Club for an exciting Book Day on Saturday 1 May from 09h00am – 15h00pm. \nWe have an incredible line up of talks\, tours and book stalls. Tickets just R100 for the entire day. Rand Club Members free. Bookings with roanne@randclub.co.za for RSVP.
URL:https://bookamoso.co.za/event/rand-club-book-day/
LOCATION:Rand Club\, 33 Loveday Street\, Johannesburg\, Gauteng\, 2001\, South Africa
CATEGORIES:Book Discussion,Book Fest,Book Festival,Bookish Event
ATTACH;FMTTYPE=image/jpeg:https://bookamoso.co.za/wp-content/uploads/2021/04/EB93DB54-083D-40CD-B639-3368CAAF082E.jpg
END:VEVENT
BEGIN:VEVENT
DTSTART;TZID=UTC:20210315T110000
DTEND;TZID=UTC:20210321T170000
DTSTAMP:20260423T222259
CREATED:20210315T085232Z
LAST-MODIFIED:20210315T085232Z
UID:1856-1615806000-1616346000@bookamoso.co.za
SUMMARY:Time of the Writer (15 - 21 March 2021)
DESCRIPTION:The University of KwaZulu-Natal’s Centre for Creative Arts (CCA) presents the 24th edition of the Time of the Writer International Festival. The sessions will be live-streamed on the Time of The Writer Facebook\, Twitter and Youtube pages. \n#TOW2021 #TimeOfTheWriter
URL:https://bookamoso.co.za/event/time-of-the-writer-15-21-march-2021/
CATEGORIES:Book Fest
ATTACH;FMTTYPE=image/jpeg:https://bookamoso.co.za/wp-content/uploads/2021/03/Time-of-the-Writer-2021.jpg
END:VEVENT
BEGIN:VEVENT
DTSTART;TZID=UTC:20200911T090000
DTEND;TZID=UTC:20200913T170000
DTSTAMP:20260423T222259
CREATED:20200314T054355Z
LAST-MODIFIED:20200314T062830Z
UID:1596-1599814800-1600016400@bookamoso.co.za
SUMMARY:SA Book Fair: Save the Dates!
DESCRIPTION:
URL:https://bookamoso.co.za/event/sa-book-fair-save-the-dates/
LOCATION:Constitution Hill Human Rights Precinct\, 11 Kotze Street\, Johannesburg\, Gauteng\, 2017\, South Africa
CATEGORIES:Book Fest,Book Festival,Bookish Event
ATTACH;FMTTYPE=image/jpeg:https://bookamoso.co.za/wp-content/uploads/2020/03/IMG_25331.jpg
ORGANIZER;CN="South African Book Fair":MAILTO:info@southafricanbookfair.co.za
END:VEVENT
END:VCALENDAR