BEGIN:VCALENDAR
VERSION:2.0
PRODID:-//Bookamoso Book Club - ECPv6.13.2.1//NONSGML v1.0//EN
CALSCALE:GREGORIAN
METHOD:PUBLISH
X-WR-CALNAME:Bookamoso Book Club
X-ORIGINAL-URL:https://bookamoso.co.za
X-WR-CALDESC:Events for Bookamoso Book Club
REFRESH-INTERVAL;VALUE=DURATION:PT1H
X-Robots-Tag:noindex
X-PUBLISHED-TTL:PT1H
BEGIN:VTIMEZONE
TZID:UTC
BEGIN:STANDARD
TZOFFSETFROM:+0000
TZOFFSETTO:+0000
TZNAME:UTC
DTSTART:20220101T000000
END:STANDARD
END:VTIMEZONE
BEGIN:VEVENT
DTSTART;TZID=UTC:20220611T133000
DTEND;TZID=UTC:20220611T170000
DTSTAMP:20260423T232923
CREATED:20220608T091940Z
LAST-MODIFIED:20220608T091940Z
UID:2648-1654954200-1654966800@bookamoso.co.za
SUMMARY:Book Club Discussion: Ghetto Ninja - Nikolaos Kirkinis
DESCRIPTION:
URL:https://bookamoso.co.za/event/book-club-discussion-ghetto-ninja-nikolaos-kirkinis/
LOCATION:Eyethu Lifestyle Centre\, Tshabalala Street\, Mofolo Central\, Soweto\, Johannesburg\, South Africa
CATEGORIES:Book Club Saturday,Book Discussion
ATTACH;FMTTYPE=image/jpeg:https://bookamoso.co.za/wp-content/uploads/2022/06/286307359_7585159101556958_3772239166664217166_n.jpeg
END:VEVENT
BEGIN:VEVENT
DTSTART;TZID=UTC:20220528T103000
DTEND;TZID=UTC:20220528T133000
DTSTAMP:20260423T232923
CREATED:20220526T072300Z
LAST-MODIFIED:20220526T072300Z
UID:2617-1653733800-1653744600@bookamoso.co.za
SUMMARY:Book Club Saturday: Zuri Book Club - The Girl with the Louding Voice
DESCRIPTION:
URL:https://bookamoso.co.za/event/book-club-saturday-zuri-book-club-the-girl-with-the-louding-voice/
LOCATION:Petit Montrouge Cafe
CATEGORIES:Book Club Saturday
ATTACH;FMTTYPE=image/jpeg:https://bookamoso.co.za/wp-content/uploads/2022/05/283640335_172034928556391_7827288132022782557_n.jpeg
END:VEVENT
END:VCALENDAR